BEGIN:VCALENDAR
VERSION:2.0
PRODID:-//Chilson Hills Church - ECPv6.15.20//NONSGML v1.0//EN
CALSCALE:GREGORIAN
METHOD:PUBLISH
X-ORIGINAL-URL:https://chilsonhills.org
X-WR-CALDESC:Events for Chilson Hills Church
REFRESH-INTERVAL;VALUE=DURATION:PT1H
X-Robots-Tag:noindex
X-PUBLISHED-TTL:PT1H
BEGIN:VTIMEZONE
TZID:America/Detroit
BEGIN:DAYLIGHT
TZOFFSETFROM:-0500
TZOFFSETTO:-0400
TZNAME:EDT
DTSTART:20240310T070000
END:DAYLIGHT
BEGIN:STANDARD
TZOFFSETFROM:-0400
TZOFFSETTO:-0500
TZNAME:EST
DTSTART:20241103T060000
END:STANDARD
BEGIN:DAYLIGHT
TZOFFSETFROM:-0500
TZOFFSETTO:-0400
TZNAME:EDT
DTSTART:20250309T070000
END:DAYLIGHT
BEGIN:STANDARD
TZOFFSETFROM:-0400
TZOFFSETTO:-0500
TZNAME:EST
DTSTART:20251102T060000
END:STANDARD
BEGIN:DAYLIGHT
TZOFFSETFROM:-0500
TZOFFSETTO:-0400
TZNAME:EDT
DTSTART:20260308T070000
END:DAYLIGHT
BEGIN:STANDARD
TZOFFSETFROM:-0400
TZOFFSETTO:-0500
TZNAME:EST
DTSTART:20261101T060000
END:STANDARD
END:VTIMEZONE
BEGIN:VEVENT
DTSTART;VALUE=DATE:20251105
DTEND;VALUE=DATE:20251106
DTSTAMP:20260420T065649
CREATED:20250428T161702Z
LAST-MODIFIED:20250428T161702Z
UID:10001893-1762300800-1762387199@chilsonhills.org
SUMMARY:Election (Tear Down)
DESCRIPTION:
URL:https://chilsonhills.org/event/election-tear-down-6/
LOCATION:CHC Worship Center\, 4440 Brighton Rd.\, Howell\, MI\, 48843\, United States
CATEGORIES:Building Rental,Property
GEO:42.525534;-83.8629275
X-APPLE-STRUCTURED-LOCATION;VALUE=URI;X-ADDRESS=CHC Worship Center 4440 Brighton Rd. Howell MI 48843 United States;X-APPLE-RADIUS=500;X-TITLE=4440 Brighton Rd.:geo:-83.8629275,42.525534
END:VEVENT
BEGIN:VEVENT
DTSTART;TZID=America/Detroit:20251105T100000
DTEND;TZID=America/Detroit:20251105T110000
DTSTAMP:20260420T065649
CREATED:20251017T141453Z
LAST-MODIFIED:20251017T141453Z
UID:10002189-1762336800-1762340400@chilsonhills.org
SUMMARY:Medicare 101 Seminar
DESCRIPTION:
URL:https://chilsonhills.org/event/medicare-101-seminar/
LOCATION:MI
CATEGORIES:Family
END:VEVENT
BEGIN:VEVENT
DTSTART;TZID=America/Detroit:20251105T183000
DTEND;TZID=America/Detroit:20251105T193000
DTSTAMP:20260420T065649
CREATED:20251028T200717Z
LAST-MODIFIED:20251028T200717Z
UID:10002212-1762367400-1762371000@chilsonhills.org
SUMMARY:Advent Choir Rehearsals
DESCRIPTION:
URL:https://chilsonhills.org/event/advent-choir-rehearsals/2025-11-05/
LOCATION:CHC Worship Center\, 4440 Brighton Rd.\, Howell\, MI\, 48843\, United States
CATEGORIES:Christmas,Music/Choir Rehearsal
GEO:42.525534;-83.8629275
X-APPLE-STRUCTURED-LOCATION;VALUE=URI;X-ADDRESS=CHC Worship Center 4440 Brighton Rd. Howell MI 48843 United States;X-APPLE-RADIUS=500;X-TITLE=4440 Brighton Rd.:geo:-83.8629275,42.525534
END:VEVENT
END:VCALENDAR