BEGIN:VCALENDAR
VERSION:2.0
PRODID:-//Chilson Hills Church - ECPv6.15.20//NONSGML v1.0//EN
CALSCALE:GREGORIAN
METHOD:PUBLISH
X-ORIGINAL-URL:https://chilsonhills.org
X-WR-CALDESC:Events for Chilson Hills Church
REFRESH-INTERVAL;VALUE=DURATION:PT1H
X-Robots-Tag:noindex
X-PUBLISHED-TTL:PT1H
BEGIN:VTIMEZONE
TZID:America/Detroit
BEGIN:DAYLIGHT
TZOFFSETFROM:-0500
TZOFFSETTO:-0400
TZNAME:EDT
DTSTART:20250309T070000
END:DAYLIGHT
BEGIN:STANDARD
TZOFFSETFROM:-0400
TZOFFSETTO:-0500
TZNAME:EST
DTSTART:20251102T060000
END:STANDARD
BEGIN:DAYLIGHT
TZOFFSETFROM:-0500
TZOFFSETTO:-0400
TZNAME:EDT
DTSTART:20260308T070000
END:DAYLIGHT
BEGIN:STANDARD
TZOFFSETFROM:-0400
TZOFFSETTO:-0500
TZNAME:EST
DTSTART:20261101T060000
END:STANDARD
BEGIN:DAYLIGHT
TZOFFSETFROM:-0500
TZOFFSETTO:-0400
TZNAME:EDT
DTSTART:20270314T070000
END:DAYLIGHT
BEGIN:STANDARD
TZOFFSETFROM:-0400
TZOFFSETTO:-0500
TZNAME:EST
DTSTART:20271107T060000
END:STANDARD
END:VTIMEZONE
BEGIN:VEVENT
DTSTART;TZID=America/Detroit:20260124T100000
DTEND;TZID=America/Detroit:20260124T120000
DTSTAMP:20260417T155512
CREATED:20260107T170135Z
LAST-MODIFIED:20260107T170135Z
UID:10003059-1769248800-1769256000@chilsonhills.org
SUMMARY:Becoming Beloved Community: Radical Love in Action Workshop
DESCRIPTION:Join us for a FREE congregational workshop to explore how we can become Beloved Community.  \nBy the end of the workshop\, participants will: \n\nUnderstand what Beloved Community means – biblically\, historically\, and in our church\nRecognize key concepts of DEI: diversity\, equity\, inclusion\, implicit bias\, systemic injustice.\nReflect on how identity\, privilege\, and the difference show up in our lives and in the congregation.\nIdentify concrete next steps for becoming Beloved Community\n\nThe workshop is Saturday\, January 24th at 10am-12pm. \nLight snacks will be provided. \nRegister HERE\n 
URL:https://chilsonhills.org/event/becoming-beloved-community-radical-love-in-action-workshop/
LOCATION:CHC Worship Center\, 4440 Brighton Rd.\, Howell\, MI\, 48843\, United States
CATEGORIES:Church Gathering
GEO:42.525534;-83.8629275
X-APPLE-STRUCTURED-LOCATION;VALUE=URI;X-ADDRESS=CHC Worship Center 4440 Brighton Rd. Howell MI 48843 United States;X-APPLE-RADIUS=500;X-TITLE=4440 Brighton Rd.:geo:-83.8629275,42.525534
END:VEVENT
END:VCALENDAR