BEGIN:VCALENDAR
VERSION:2.0
PRODID:-//Chilson Hills Church - ECPv6.15.20//NONSGML v1.0//EN
CALSCALE:GREGORIAN
METHOD:PUBLISH
X-WR-CALNAME:Chilson Hills Church
X-ORIGINAL-URL:https://chilsonhills.org
X-WR-CALDESC:Events for Chilson Hills Church
REFRESH-INTERVAL;VALUE=DURATION:PT1H
X-Robots-Tag:noindex
X-PUBLISHED-TTL:PT1H
BEGIN:VTIMEZONE
TZID:America/Detroit
BEGIN:DAYLIGHT
TZOFFSETFROM:-0500
TZOFFSETTO:-0400
TZNAME:EDT
DTSTART:20250309T070000
END:DAYLIGHT
BEGIN:STANDARD
TZOFFSETFROM:-0400
TZOFFSETTO:-0500
TZNAME:EST
DTSTART:20251102T060000
END:STANDARD
BEGIN:DAYLIGHT
TZOFFSETFROM:-0500
TZOFFSETTO:-0400
TZNAME:EDT
DTSTART:20260308T070000
END:DAYLIGHT
BEGIN:STANDARD
TZOFFSETFROM:-0400
TZOFFSETTO:-0500
TZNAME:EST
DTSTART:20261101T060000
END:STANDARD
BEGIN:DAYLIGHT
TZOFFSETFROM:-0500
TZOFFSETTO:-0400
TZNAME:EDT
DTSTART:20270314T070000
END:DAYLIGHT
BEGIN:STANDARD
TZOFFSETFROM:-0400
TZOFFSETTO:-0500
TZNAME:EST
DTSTART:20271107T060000
END:STANDARD
END:VTIMEZONE
BEGIN:VEVENT
DTSTART;TZID=America/Detroit:20260203T093000
DTEND;TZID=America/Detroit:20260203T110000
DTSTAMP:20260417T001441
CREATED:20250617T162116Z
LAST-MODIFIED:20250617T163606Z
UID:10001945-1770111000-1770116400@chilsonhills.org
SUMMARY:Creative Worship Team Meeting
DESCRIPTION:We are always welcoming new members to this team. Join us and collaborate in designing creative worship! This group meets on zoom or in-person. Contact Worship and Communications Adminstrator\, Chelsea Head for details.
URL:https://chilsonhills.org/event/creative-worship-team-meeting-2-2/2026-02-03/
LOCATION:Conference Room
CATEGORIES:Prayer,Worship Service
ATTACH;FMTTYPE=image/jpeg:https://chilsonhills.org/wp-content/uploads/2015/07/i-NpDXCKT-2602x1952.jpg
ORGANIZER;CN="Angela Miller":MAILTO:angela@chilsonhills.org
END:VEVENT
END:VCALENDAR