BEGIN:VCALENDAR
VERSION:2.0
PRODID:-//Chilson Hills Church - ECPv6.15.20//NONSGML v1.0//EN
CALSCALE:GREGORIAN
METHOD:PUBLISH
X-WR-CALNAME:Chilson Hills Church
X-ORIGINAL-URL:https://chilsonhills.org
X-WR-CALDESC:Events for Chilson Hills Church
REFRESH-INTERVAL;VALUE=DURATION:PT1H
X-Robots-Tag:noindex
X-PUBLISHED-TTL:PT1H
BEGIN:VTIMEZONE
TZID:America/Detroit
BEGIN:DAYLIGHT
TZOFFSETFROM:-0500
TZOFFSETTO:-0400
TZNAME:EDT
DTSTART:20240310T070000
END:DAYLIGHT
BEGIN:STANDARD
TZOFFSETFROM:-0400
TZOFFSETTO:-0500
TZNAME:EST
DTSTART:20241103T060000
END:STANDARD
BEGIN:DAYLIGHT
TZOFFSETFROM:-0500
TZOFFSETTO:-0400
TZNAME:EDT
DTSTART:20250309T070000
END:DAYLIGHT
BEGIN:STANDARD
TZOFFSETFROM:-0400
TZOFFSETTO:-0500
TZNAME:EST
DTSTART:20251102T060000
END:STANDARD
BEGIN:DAYLIGHT
TZOFFSETFROM:-0500
TZOFFSETTO:-0400
TZNAME:EDT
DTSTART:20260308T070000
END:DAYLIGHT
BEGIN:STANDARD
TZOFFSETFROM:-0400
TZOFFSETTO:-0500
TZNAME:EST
DTSTART:20261101T060000
END:STANDARD
END:VTIMEZONE
BEGIN:VEVENT
DTSTART;TZID=America/Detroit:20250224T080000
DTEND;TZID=America/Detroit:20250224T170000
DTSTAMP:20260418T060416
CREATED:20241230T150800Z
LAST-MODIFIED:20241230T150800Z
UID:10001854-1740384000-1740416400@chilsonhills.org
SUMMARY:Life Line Screening
DESCRIPTION:
URL:https://chilsonhills.org/event/life-line-screening-5/
LOCATION:CHC Worship Center\, 4440 Brighton Rd.\, Howell\, MI\, 48843\, United States
CATEGORIES:Building Rental,Community
ATTACH;FMTTYPE=image/jpeg:https://chilsonhills.org/wp-content/uploads/2015/07/BloodDrive.jpg
GEO:42.525534;-83.8629275
X-APPLE-STRUCTURED-LOCATION;VALUE=URI;X-ADDRESS=CHC Worship Center 4440 Brighton Rd. Howell MI 48843 United States;X-APPLE-RADIUS=500;X-TITLE=4440 Brighton Rd.:geo:-83.8629275,42.525534
END:VEVENT
END:VCALENDAR