BEGIN:VCALENDAR
VERSION:2.0
PRODID:-//Chilson Hills Church - ECPv6.15.20//NONSGML v1.0//EN
CALSCALE:GREGORIAN
METHOD:PUBLISH
X-WR-CALNAME:Chilson Hills Church
X-ORIGINAL-URL:https://chilsonhills.org
X-WR-CALDESC:Events for Chilson Hills Church
REFRESH-INTERVAL;VALUE=DURATION:PT1H
X-Robots-Tag:noindex
X-PUBLISHED-TTL:PT1H
BEGIN:VTIMEZONE
TZID:America/Detroit
BEGIN:DAYLIGHT
TZOFFSETFROM:-0500
TZOFFSETTO:-0400
TZNAME:EDT
DTSTART:20250309T070000
END:DAYLIGHT
BEGIN:STANDARD
TZOFFSETFROM:-0400
TZOFFSETTO:-0500
TZNAME:EST
DTSTART:20251102T060000
END:STANDARD
BEGIN:DAYLIGHT
TZOFFSETFROM:-0500
TZOFFSETTO:-0400
TZNAME:EDT
DTSTART:20260308T070000
END:DAYLIGHT
BEGIN:STANDARD
TZOFFSETFROM:-0400
TZOFFSETTO:-0500
TZNAME:EST
DTSTART:20261101T060000
END:STANDARD
BEGIN:DAYLIGHT
TZOFFSETFROM:-0500
TZOFFSETTO:-0400
TZNAME:EDT
DTSTART:20270314T070000
END:DAYLIGHT
BEGIN:STANDARD
TZOFFSETFROM:-0400
TZOFFSETTO:-0500
TZNAME:EST
DTSTART:20271107T060000
END:STANDARD
BEGIN:DAYLIGHT
TZOFFSETFROM:-0500
TZOFFSETTO:-0400
TZNAME:EDT
DTSTART:20280312T070000
END:DAYLIGHT
BEGIN:STANDARD
TZOFFSETFROM:-0400
TZOFFSETTO:-0500
TZNAME:EST
DTSTART:20281105T060000
END:STANDARD
BEGIN:DAYLIGHT
TZOFFSETFROM:-0500
TZOFFSETTO:-0400
TZNAME:EDT
DTSTART:20290311T070000
END:DAYLIGHT
BEGIN:STANDARD
TZOFFSETFROM:-0400
TZOFFSETTO:-0500
TZNAME:EST
DTSTART:20291104T060000
END:STANDARD
END:VTIMEZONE
BEGIN:VEVENT
DTSTART;TZID=America/Detroit:20260521T183000
DTEND;TZID=America/Detroit:20260521T200000
DTSTAMP:20260419T223254
CREATED:20231207T165551Z
LAST-MODIFIED:20231207T170555Z
UID:10001352-1779388200-1779393600@chilsonhills.org
SUMMARY:Executive Ministry Team
DESCRIPTION:
URL:https://chilsonhills.org/event/executive-ministry-team-2/2026-05-21/
LOCATION:Conference Room
CATEGORIES:EMT
ATTACH;FMTTYPE=image/jpeg:https://chilsonhills.org/wp-content/uploads/2022/05/ministry-team.jpg
END:VEVENT
BEGIN:VEVENT
DTSTART;TZID=America/Detroit:20260618T183000
DTEND;TZID=America/Detroit:20260618T200000
DTSTAMP:20260419T223254
CREATED:20231207T165551Z
LAST-MODIFIED:20231207T170555Z
UID:10001353-1781807400-1781812800@chilsonhills.org
SUMMARY:Executive Ministry Team
DESCRIPTION:
URL:https://chilsonhills.org/event/executive-ministry-team-2/2026-06-18/
LOCATION:Conference Room
CATEGORIES:EMT
ATTACH;FMTTYPE=image/jpeg:https://chilsonhills.org/wp-content/uploads/2022/05/ministry-team.jpg
END:VEVENT
BEGIN:VEVENT
DTSTART;TZID=America/Detroit:20260716T183000
DTEND;TZID=America/Detroit:20260716T200000
DTSTAMP:20260419T223254
CREATED:20231207T165551Z
LAST-MODIFIED:20231207T170555Z
UID:10001354-1784226600-1784232000@chilsonhills.org
SUMMARY:Executive Ministry Team
DESCRIPTION:
URL:https://chilsonhills.org/event/executive-ministry-team-2/2026-07-16/
LOCATION:Conference Room
CATEGORIES:EMT
ATTACH;FMTTYPE=image/jpeg:https://chilsonhills.org/wp-content/uploads/2022/05/ministry-team.jpg
END:VEVENT
BEGIN:VEVENT
DTSTART;TZID=America/Detroit:20260820T183000
DTEND;TZID=America/Detroit:20260820T200000
DTSTAMP:20260419T223254
CREATED:20231207T165551Z
LAST-MODIFIED:20231207T170555Z
UID:10001355-1787250600-1787256000@chilsonhills.org
SUMMARY:Executive Ministry Team
DESCRIPTION:
URL:https://chilsonhills.org/event/executive-ministry-team-2/2026-08-20/
LOCATION:Conference Room
CATEGORIES:EMT
ATTACH;FMTTYPE=image/jpeg:https://chilsonhills.org/wp-content/uploads/2022/05/ministry-team.jpg
END:VEVENT
BEGIN:VEVENT
DTSTART;TZID=America/Detroit:20260917T183000
DTEND;TZID=America/Detroit:20260917T200000
DTSTAMP:20260419T223254
CREATED:20231207T165551Z
LAST-MODIFIED:20231207T170555Z
UID:10001356-1789669800-1789675200@chilsonhills.org
SUMMARY:Executive Ministry Team
DESCRIPTION:
URL:https://chilsonhills.org/event/executive-ministry-team-2/2026-09-17/
LOCATION:Conference Room
CATEGORIES:EMT
ATTACH;FMTTYPE=image/jpeg:https://chilsonhills.org/wp-content/uploads/2022/05/ministry-team.jpg
END:VEVENT
BEGIN:VEVENT
DTSTART;TZID=America/Detroit:20261015T183000
DTEND;TZID=America/Detroit:20261015T200000
DTSTAMP:20260419T223254
CREATED:20231207T165551Z
LAST-MODIFIED:20231207T170555Z
UID:10001357-1792089000-1792094400@chilsonhills.org
SUMMARY:Executive Ministry Team
DESCRIPTION:
URL:https://chilsonhills.org/event/executive-ministry-team-2/2026-10-15/
LOCATION:Conference Room
CATEGORIES:EMT
ATTACH;FMTTYPE=image/jpeg:https://chilsonhills.org/wp-content/uploads/2022/05/ministry-team.jpg
END:VEVENT
BEGIN:VEVENT
DTSTART;TZID=America/Detroit:20261119T183000
DTEND;TZID=America/Detroit:20261119T200000
DTSTAMP:20260419T223254
CREATED:20231207T165551Z
LAST-MODIFIED:20231207T170555Z
UID:10001358-1795113000-1795118400@chilsonhills.org
SUMMARY:Executive Ministry Team
DESCRIPTION:
URL:https://chilsonhills.org/event/executive-ministry-team-2/2026-11-19/
LOCATION:Conference Room
CATEGORIES:EMT
ATTACH;FMTTYPE=image/jpeg:https://chilsonhills.org/wp-content/uploads/2022/05/ministry-team.jpg
END:VEVENT
BEGIN:VEVENT
DTSTART;TZID=America/Detroit:20261217T183000
DTEND;TZID=America/Detroit:20261217T200000
DTSTAMP:20260419T223254
CREATED:20231207T165551Z
LAST-MODIFIED:20231207T170555Z
UID:10001359-1797532200-1797537600@chilsonhills.org
SUMMARY:Executive Ministry Team
DESCRIPTION:
URL:https://chilsonhills.org/event/executive-ministry-team-2/2026-12-17/
LOCATION:Conference Room
CATEGORIES:EMT
ATTACH;FMTTYPE=image/jpeg:https://chilsonhills.org/wp-content/uploads/2022/05/ministry-team.jpg
END:VEVENT
BEGIN:VEVENT
DTSTART;TZID=America/Detroit:20270121T183000
DTEND;TZID=America/Detroit:20270121T200000
DTSTAMP:20260419T223254
CREATED:20231207T165551Z
LAST-MODIFIED:20231207T170555Z
UID:10001360-1800556200-1800561600@chilsonhills.org
SUMMARY:Executive Ministry Team
DESCRIPTION:
URL:https://chilsonhills.org/event/executive-ministry-team-2/2027-01-21/
LOCATION:Conference Room
CATEGORIES:EMT
ATTACH;FMTTYPE=image/jpeg:https://chilsonhills.org/wp-content/uploads/2022/05/ministry-team.jpg
END:VEVENT
BEGIN:VEVENT
DTSTART;TZID=America/Detroit:20270218T183000
DTEND;TZID=America/Detroit:20270218T200000
DTSTAMP:20260419T223254
CREATED:20231207T165551Z
LAST-MODIFIED:20231207T170555Z
UID:10001361-1802975400-1802980800@chilsonhills.org
SUMMARY:Executive Ministry Team
DESCRIPTION:
URL:https://chilsonhills.org/event/executive-ministry-team-2/2027-02-18/
LOCATION:Conference Room
CATEGORIES:EMT
ATTACH;FMTTYPE=image/jpeg:https://chilsonhills.org/wp-content/uploads/2022/05/ministry-team.jpg
END:VEVENT
BEGIN:VEVENT
DTSTART;TZID=America/Detroit:20270318T183000
DTEND;TZID=America/Detroit:20270318T200000
DTSTAMP:20260419T223254
CREATED:20231207T165551Z
LAST-MODIFIED:20231207T170555Z
UID:10001362-1805394600-1805400000@chilsonhills.org
SUMMARY:Executive Ministry Team
DESCRIPTION:
URL:https://chilsonhills.org/event/executive-ministry-team-2/2027-03-18/
LOCATION:Conference Room
CATEGORIES:EMT
ATTACH;FMTTYPE=image/jpeg:https://chilsonhills.org/wp-content/uploads/2022/05/ministry-team.jpg
END:VEVENT
BEGIN:VEVENT
DTSTART;TZID=America/Detroit:20270415T183000
DTEND;TZID=America/Detroit:20270415T200000
DTSTAMP:20260419T223254
CREATED:20231207T165551Z
LAST-MODIFIED:20231207T170555Z
UID:10001363-1807813800-1807819200@chilsonhills.org
SUMMARY:Executive Ministry Team
DESCRIPTION:
URL:https://chilsonhills.org/event/executive-ministry-team-2/2027-04-15/
LOCATION:Conference Room
CATEGORIES:EMT
ATTACH;FMTTYPE=image/jpeg:https://chilsonhills.org/wp-content/uploads/2022/05/ministry-team.jpg
END:VEVENT
BEGIN:VEVENT
DTSTART;TZID=America/Detroit:20270520T183000
DTEND;TZID=America/Detroit:20270520T200000
DTSTAMP:20260419T223254
CREATED:20231207T165551Z
LAST-MODIFIED:20231207T170555Z
UID:10001364-1810837800-1810843200@chilsonhills.org
SUMMARY:Executive Ministry Team
DESCRIPTION:
URL:https://chilsonhills.org/event/executive-ministry-team-2/2027-05-20/
LOCATION:Conference Room
CATEGORIES:EMT
ATTACH;FMTTYPE=image/jpeg:https://chilsonhills.org/wp-content/uploads/2022/05/ministry-team.jpg
END:VEVENT
BEGIN:VEVENT
DTSTART;TZID=America/Detroit:20270617T183000
DTEND;TZID=America/Detroit:20270617T200000
DTSTAMP:20260419T223254
CREATED:20231207T165551Z
LAST-MODIFIED:20231207T170555Z
UID:10001365-1813257000-1813262400@chilsonhills.org
SUMMARY:Executive Ministry Team
DESCRIPTION:
URL:https://chilsonhills.org/event/executive-ministry-team-2/2027-06-17/
LOCATION:Conference Room
CATEGORIES:EMT
ATTACH;FMTTYPE=image/jpeg:https://chilsonhills.org/wp-content/uploads/2022/05/ministry-team.jpg
END:VEVENT
BEGIN:VEVENT
DTSTART;TZID=America/Detroit:20270715T183000
DTEND;TZID=America/Detroit:20270715T200000
DTSTAMP:20260419T223254
CREATED:20231207T165551Z
LAST-MODIFIED:20231207T170555Z
UID:10001366-1815676200-1815681600@chilsonhills.org
SUMMARY:Executive Ministry Team
DESCRIPTION:
URL:https://chilsonhills.org/event/executive-ministry-team-2/2027-07-15/
LOCATION:Conference Room
CATEGORIES:EMT
ATTACH;FMTTYPE=image/jpeg:https://chilsonhills.org/wp-content/uploads/2022/05/ministry-team.jpg
END:VEVENT
BEGIN:VEVENT
DTSTART;TZID=America/Detroit:20270819T183000
DTEND;TZID=America/Detroit:20270819T200000
DTSTAMP:20260419T223254
CREATED:20231207T165551Z
LAST-MODIFIED:20231207T170555Z
UID:10001367-1818700200-1818705600@chilsonhills.org
SUMMARY:Executive Ministry Team
DESCRIPTION:
URL:https://chilsonhills.org/event/executive-ministry-team-2/2027-08-19/
LOCATION:Conference Room
CATEGORIES:EMT
ATTACH;FMTTYPE=image/jpeg:https://chilsonhills.org/wp-content/uploads/2022/05/ministry-team.jpg
END:VEVENT
BEGIN:VEVENT
DTSTART;TZID=America/Detroit:20270916T183000
DTEND;TZID=America/Detroit:20270916T200000
DTSTAMP:20260419T223254
CREATED:20231207T165551Z
LAST-MODIFIED:20231207T170555Z
UID:10001368-1821119400-1821124800@chilsonhills.org
SUMMARY:Executive Ministry Team
DESCRIPTION:
URL:https://chilsonhills.org/event/executive-ministry-team-2/2027-09-16/
LOCATION:Conference Room
CATEGORIES:EMT
ATTACH;FMTTYPE=image/jpeg:https://chilsonhills.org/wp-content/uploads/2022/05/ministry-team.jpg
END:VEVENT
BEGIN:VEVENT
DTSTART;TZID=America/Detroit:20271021T183000
DTEND;TZID=America/Detroit:20271021T200000
DTSTAMP:20260419T223254
CREATED:20231207T165551Z
LAST-MODIFIED:20231207T170555Z
UID:10001369-1824143400-1824148800@chilsonhills.org
SUMMARY:Executive Ministry Team
DESCRIPTION:
URL:https://chilsonhills.org/event/executive-ministry-team-2/2027-10-21/
LOCATION:Conference Room
CATEGORIES:EMT
ATTACH;FMTTYPE=image/jpeg:https://chilsonhills.org/wp-content/uploads/2022/05/ministry-team.jpg
END:VEVENT
BEGIN:VEVENT
DTSTART;TZID=America/Detroit:20271118T183000
DTEND;TZID=America/Detroit:20271118T200000
DTSTAMP:20260419T223254
CREATED:20231207T165551Z
LAST-MODIFIED:20231207T170555Z
UID:10001370-1826562600-1826568000@chilsonhills.org
SUMMARY:Executive Ministry Team
DESCRIPTION:
URL:https://chilsonhills.org/event/executive-ministry-team-2/2027-11-18/
LOCATION:Conference Room
CATEGORIES:EMT
ATTACH;FMTTYPE=image/jpeg:https://chilsonhills.org/wp-content/uploads/2022/05/ministry-team.jpg
END:VEVENT
BEGIN:VEVENT
DTSTART;TZID=America/Detroit:20271216T183000
DTEND;TZID=America/Detroit:20271216T200000
DTSTAMP:20260419T223254
CREATED:20231207T165551Z
LAST-MODIFIED:20231207T170555Z
UID:10001371-1828981800-1828987200@chilsonhills.org
SUMMARY:Executive Ministry Team
DESCRIPTION:
URL:https://chilsonhills.org/event/executive-ministry-team-2/2027-12-16/
LOCATION:Conference Room
CATEGORIES:EMT
ATTACH;FMTTYPE=image/jpeg:https://chilsonhills.org/wp-content/uploads/2022/05/ministry-team.jpg
END:VEVENT
BEGIN:VEVENT
DTSTART;TZID=America/Detroit:20280120T183000
DTEND;TZID=America/Detroit:20280120T200000
DTSTAMP:20260419T223254
CREATED:20231207T165551Z
LAST-MODIFIED:20231207T170555Z
UID:10001372-1832005800-1832011200@chilsonhills.org
SUMMARY:Executive Ministry Team
DESCRIPTION:
URL:https://chilsonhills.org/event/executive-ministry-team-2/2028-01-20/
LOCATION:Conference Room
CATEGORIES:EMT
ATTACH;FMTTYPE=image/jpeg:https://chilsonhills.org/wp-content/uploads/2022/05/ministry-team.jpg
END:VEVENT
BEGIN:VEVENT
DTSTART;TZID=America/Detroit:20280217T183000
DTEND;TZID=America/Detroit:20280217T200000
DTSTAMP:20260419T223254
CREATED:20231207T165551Z
LAST-MODIFIED:20231207T170555Z
UID:10001373-1834425000-1834430400@chilsonhills.org
SUMMARY:Executive Ministry Team
DESCRIPTION:
URL:https://chilsonhills.org/event/executive-ministry-team-2/2028-02-17/
LOCATION:Conference Room
CATEGORIES:EMT
ATTACH;FMTTYPE=image/jpeg:https://chilsonhills.org/wp-content/uploads/2022/05/ministry-team.jpg
END:VEVENT
BEGIN:VEVENT
DTSTART;TZID=America/Detroit:20280316T183000
DTEND;TZID=America/Detroit:20280316T200000
DTSTAMP:20260419T223254
CREATED:20231207T165551Z
LAST-MODIFIED:20231207T170555Z
UID:10001374-1836844200-1836849600@chilsonhills.org
SUMMARY:Executive Ministry Team
DESCRIPTION:
URL:https://chilsonhills.org/event/executive-ministry-team-2/2028-03-16/
LOCATION:Conference Room
CATEGORIES:EMT
ATTACH;FMTTYPE=image/jpeg:https://chilsonhills.org/wp-content/uploads/2022/05/ministry-team.jpg
END:VEVENT
BEGIN:VEVENT
DTSTART;TZID=America/Detroit:20280420T183000
DTEND;TZID=America/Detroit:20280420T200000
DTSTAMP:20260419T223254
CREATED:20231207T165551Z
LAST-MODIFIED:20231207T170555Z
UID:10001375-1839868200-1839873600@chilsonhills.org
SUMMARY:Executive Ministry Team
DESCRIPTION:
URL:https://chilsonhills.org/event/executive-ministry-team-2/2028-04-20/
LOCATION:Conference Room
CATEGORIES:EMT
ATTACH;FMTTYPE=image/jpeg:https://chilsonhills.org/wp-content/uploads/2022/05/ministry-team.jpg
END:VEVENT
BEGIN:VEVENT
DTSTART;TZID=America/Detroit:20280518T183000
DTEND;TZID=America/Detroit:20280518T200000
DTSTAMP:20260419T223254
CREATED:20231207T165551Z
LAST-MODIFIED:20231207T170555Z
UID:10001376-1842287400-1842292800@chilsonhills.org
SUMMARY:Executive Ministry Team
DESCRIPTION:
URL:https://chilsonhills.org/event/executive-ministry-team-2/2028-05-18/
LOCATION:Conference Room
CATEGORIES:EMT
ATTACH;FMTTYPE=image/jpeg:https://chilsonhills.org/wp-content/uploads/2022/05/ministry-team.jpg
END:VEVENT
BEGIN:VEVENT
DTSTART;TZID=America/Detroit:20280615T183000
DTEND;TZID=America/Detroit:20280615T200000
DTSTAMP:20260419T223254
CREATED:20231207T165551Z
LAST-MODIFIED:20231207T170555Z
UID:10001377-1844706600-1844712000@chilsonhills.org
SUMMARY:Executive Ministry Team
DESCRIPTION:
URL:https://chilsonhills.org/event/executive-ministry-team-2/2028-06-15/
LOCATION:Conference Room
CATEGORIES:EMT
ATTACH;FMTTYPE=image/jpeg:https://chilsonhills.org/wp-content/uploads/2022/05/ministry-team.jpg
END:VEVENT
BEGIN:VEVENT
DTSTART;TZID=America/Detroit:20280720T183000
DTEND;TZID=America/Detroit:20280720T200000
DTSTAMP:20260419T223254
CREATED:20231207T165551Z
LAST-MODIFIED:20231207T170555Z
UID:10001378-1847730600-1847736000@chilsonhills.org
SUMMARY:Executive Ministry Team
DESCRIPTION:
URL:https://chilsonhills.org/event/executive-ministry-team-2/2028-07-20/
LOCATION:Conference Room
CATEGORIES:EMT
ATTACH;FMTTYPE=image/jpeg:https://chilsonhills.org/wp-content/uploads/2022/05/ministry-team.jpg
END:VEVENT
BEGIN:VEVENT
DTSTART;TZID=America/Detroit:20280817T183000
DTEND;TZID=America/Detroit:20280817T200000
DTSTAMP:20260419T223254
CREATED:20231207T165551Z
LAST-MODIFIED:20231207T170555Z
UID:10001379-1850149800-1850155200@chilsonhills.org
SUMMARY:Executive Ministry Team
DESCRIPTION:
URL:https://chilsonhills.org/event/executive-ministry-team-2/2028-08-17/
LOCATION:Conference Room
CATEGORIES:EMT
ATTACH;FMTTYPE=image/jpeg:https://chilsonhills.org/wp-content/uploads/2022/05/ministry-team.jpg
END:VEVENT
BEGIN:VEVENT
DTSTART;TZID=America/Detroit:20280921T183000
DTEND;TZID=America/Detroit:20280921T200000
DTSTAMP:20260419T223254
CREATED:20231207T165551Z
LAST-MODIFIED:20231207T170555Z
UID:10001380-1853173800-1853179200@chilsonhills.org
SUMMARY:Executive Ministry Team
DESCRIPTION:
URL:https://chilsonhills.org/event/executive-ministry-team-2/2028-09-21/
LOCATION:Conference Room
CATEGORIES:EMT
ATTACH;FMTTYPE=image/jpeg:https://chilsonhills.org/wp-content/uploads/2022/05/ministry-team.jpg
END:VEVENT
BEGIN:VEVENT
DTSTART;TZID=America/Detroit:20281019T183000
DTEND;TZID=America/Detroit:20281019T200000
DTSTAMP:20260419T223254
CREATED:20231207T165551Z
LAST-MODIFIED:20231207T170555Z
UID:10001381-1855593000-1855598400@chilsonhills.org
SUMMARY:Executive Ministry Team
DESCRIPTION:
URL:https://chilsonhills.org/event/executive-ministry-team-2/2028-10-19/
LOCATION:Conference Room
CATEGORIES:EMT
ATTACH;FMTTYPE=image/jpeg:https://chilsonhills.org/wp-content/uploads/2022/05/ministry-team.jpg
END:VEVENT
END:VCALENDAR