BEGIN:VCALENDAR
VERSION:2.0
PRODID:-//Chilson Hills Church - ECPv6.15.20//NONSGML v1.0//EN
CALSCALE:GREGORIAN
METHOD:PUBLISH
X-WR-CALNAME:Chilson Hills Church
X-ORIGINAL-URL:https://chilsonhills.org
X-WR-CALDESC:Events for Chilson Hills Church
REFRESH-INTERVAL;VALUE=DURATION:PT1H
X-Robots-Tag:noindex
X-PUBLISHED-TTL:PT1H
BEGIN:VTIMEZONE
TZID:America/Detroit
BEGIN:DAYLIGHT
TZOFFSETFROM:-0500
TZOFFSETTO:-0400
TZNAME:EDT
DTSTART:20230312T070000
END:DAYLIGHT
BEGIN:STANDARD
TZOFFSETFROM:-0400
TZOFFSETTO:-0500
TZNAME:EST
DTSTART:20231105T060000
END:STANDARD
BEGIN:DAYLIGHT
TZOFFSETFROM:-0500
TZOFFSETTO:-0400
TZNAME:EDT
DTSTART:20240310T070000
END:DAYLIGHT
BEGIN:STANDARD
TZOFFSETFROM:-0400
TZOFFSETTO:-0500
TZNAME:EST
DTSTART:20241103T060000
END:STANDARD
BEGIN:DAYLIGHT
TZOFFSETFROM:-0500
TZOFFSETTO:-0400
TZNAME:EDT
DTSTART:20250309T070000
END:DAYLIGHT
BEGIN:STANDARD
TZOFFSETFROM:-0400
TZOFFSETTO:-0500
TZNAME:EST
DTSTART:20251102T060000
END:STANDARD
BEGIN:DAYLIGHT
TZOFFSETFROM:-0500
TZOFFSETTO:-0400
TZNAME:EDT
DTSTART:20260308T070000
END:DAYLIGHT
BEGIN:STANDARD
TZOFFSETFROM:-0400
TZOFFSETTO:-0500
TZNAME:EST
DTSTART:20261101T060000
END:STANDARD
END:VTIMEZONE
BEGIN:VEVENT
DTSTART;TZID=America/Detroit:20250126T100000
DTEND;TZID=America/Detroit:20250126T110000
DTSTAMP:20260417T192842
CREATED:20200617T025940Z
LAST-MODIFIED:20220730T235348Z
UID:10000904-1737885600-1737889200@chilsonhills.org
SUMMARY:Sunday Morning Worship
DESCRIPTION:You’re invited every week at 10:00am in-person and online\nLocation: Worship Center or Outdoor Garden (depending on weather)
URL:https://chilsonhills.org/event/worship-service-2/2025-01-26/
LOCATION:CHC Worship Center\, 4440 Brighton Rd.\, Howell\, MI\, 48843\, United States
CATEGORIES:Worship Service
ATTACH;FMTTYPE=image/jpeg:https://chilsonhills.org/wp-content/uploads/2020/07/20200705_101511.jpg
GEO:42.525534;-83.8629275
X-APPLE-STRUCTURED-LOCATION;VALUE=URI;X-ADDRESS=CHC Worship Center 4440 Brighton Rd. Howell MI 48843 United States;X-APPLE-RADIUS=500;X-TITLE=4440 Brighton Rd.:geo:-83.8629275,42.525534
END:VEVENT
BEGIN:VEVENT
DTSTART;TZID=America/Detroit:20250121T100000
DTEND;TZID=America/Detroit:20250121T110000
DTSTAMP:20260417T192842
CREATED:20240827T154308Z
LAST-MODIFIED:20240827T154309Z
UID:10001590-1737453600-1737457200@chilsonhills.org
SUMMARY:Creative Worship Team Meeting
DESCRIPTION:We are always welcoming new members to this team. Join us and collaborate in designing creative worship! This group meets on zoom or in-person. Contact Director of Worship\, Amber Wist for details.
URL:https://chilsonhills.org/event/creative-worship-team-meeting-2/2025-01-21/
LOCATION:Conference Room
CATEGORIES:Prayer,Worship Service
ATTACH;FMTTYPE=image/jpeg:https://chilsonhills.org/wp-content/uploads/2015/07/i-NpDXCKT-2602x1952.jpg
ORGANIZER;CN="Angela Miller":MAILTO:angela@chilsonhills.org
END:VEVENT
BEGIN:VEVENT
DTSTART;TZID=America/Detroit:20250119T100000
DTEND;TZID=America/Detroit:20250119T110000
DTSTAMP:20260417T192842
CREATED:20200617T025940Z
LAST-MODIFIED:20220730T235348Z
UID:10000903-1737280800-1737284400@chilsonhills.org
SUMMARY:Sunday Morning Worship
DESCRIPTION:You’re invited every week at 10:00am in-person and online\nLocation: Worship Center or Outdoor Garden (depending on weather)
URL:https://chilsonhills.org/event/worship-service-2/2025-01-19/
LOCATION:CHC Worship Center\, 4440 Brighton Rd.\, Howell\, MI\, 48843\, United States
CATEGORIES:Worship Service
ATTACH;FMTTYPE=image/jpeg:https://chilsonhills.org/wp-content/uploads/2020/07/20200705_101511.jpg
GEO:42.525534;-83.8629275
X-APPLE-STRUCTURED-LOCATION;VALUE=URI;X-ADDRESS=CHC Worship Center 4440 Brighton Rd. Howell MI 48843 United States;X-APPLE-RADIUS=500;X-TITLE=4440 Brighton Rd.:geo:-83.8629275,42.525534
END:VEVENT
BEGIN:VEVENT
DTSTART;TZID=America/Detroit:20250116T183000
DTEND;TZID=America/Detroit:20250116T200000
DTSTAMP:20260417T192842
CREATED:20231207T165551Z
LAST-MODIFIED:20231207T170555Z
UID:10001256-1737052200-1737057600@chilsonhills.org
SUMMARY:Executive Ministry Team
DESCRIPTION:
URL:https://chilsonhills.org/event/executive-ministry-team-2/2025-01-16/
LOCATION:Conference Room
CATEGORIES:EMT
ATTACH;FMTTYPE=image/jpeg:https://chilsonhills.org/wp-content/uploads/2022/05/ministry-team.jpg
END:VEVENT
BEGIN:VEVENT
DTSTART;TZID=America/Detroit:20250114T100000
DTEND;TZID=America/Detroit:20250114T110000
DTSTAMP:20260417T192842
CREATED:20240827T154308Z
LAST-MODIFIED:20240827T154309Z
UID:10001589-1736848800-1736852400@chilsonhills.org
SUMMARY:Creative Worship Team Meeting
DESCRIPTION:We are always welcoming new members to this team. Join us and collaborate in designing creative worship! This group meets on zoom or in-person. Contact Director of Worship\, Amber Wist for details.
URL:https://chilsonhills.org/event/creative-worship-team-meeting-2/2025-01-14/
LOCATION:Conference Room
CATEGORIES:Prayer,Worship Service
ATTACH;FMTTYPE=image/jpeg:https://chilsonhills.org/wp-content/uploads/2015/07/i-NpDXCKT-2602x1952.jpg
ORGANIZER;CN="Angela Miller":MAILTO:angela@chilsonhills.org
END:VEVENT
BEGIN:VEVENT
DTSTART;TZID=America/Detroit:20250112T100000
DTEND;TZID=America/Detroit:20250112T110000
DTSTAMP:20260417T192842
CREATED:20200617T025940Z
LAST-MODIFIED:20220730T235348Z
UID:10000902-1736676000-1736679600@chilsonhills.org
SUMMARY:Sunday Morning Worship
DESCRIPTION:You’re invited every week at 10:00am in-person and online\nLocation: Worship Center or Outdoor Garden (depending on weather)
URL:https://chilsonhills.org/event/worship-service-2/2025-01-12/
LOCATION:CHC Worship Center\, 4440 Brighton Rd.\, Howell\, MI\, 48843\, United States
CATEGORIES:Worship Service
ATTACH;FMTTYPE=image/jpeg:https://chilsonhills.org/wp-content/uploads/2020/07/20200705_101511.jpg
GEO:42.525534;-83.8629275
X-APPLE-STRUCTURED-LOCATION;VALUE=URI;X-ADDRESS=CHC Worship Center 4440 Brighton Rd. Howell MI 48843 United States;X-APPLE-RADIUS=500;X-TITLE=4440 Brighton Rd.:geo:-83.8629275,42.525534
END:VEVENT
BEGIN:VEVENT
DTSTART;TZID=America/Detroit:20250110T183000
DTEND;TZID=America/Detroit:20250110T210000
DTSTAMP:20260417T192842
CREATED:20250107T145556Z
LAST-MODIFIED:20250107T145556Z
UID:10001855-1736533800-1736542800@chilsonhills.org
SUMMARY:Euchre Night
DESCRIPTION:
URL:https://chilsonhills.org/event/euchre-night-8/
LOCATION:MI
CATEGORIES:Euchre Night,Family,Fellowship
ATTACH;FMTTYPE=image/jpeg:https://chilsonhills.org/wp-content/uploads/2023/12/basic-euchre-night.jpg
END:VEVENT
BEGIN:VEVENT
DTSTART;TZID=America/Detroit:20250108T170000
DTEND;TZID=America/Detroit:20250108T180000
DTSTAMP:20260417T192842
CREATED:20240506T131440Z
LAST-MODIFIED:20240506T131441Z
UID:10001503-1736355600-1736359200@chilsonhills.org
SUMMARY:Property Management Team Meeting
DESCRIPTION:
URL:https://chilsonhills.org/event/property-management-team-meeting-2-2/2025-01-08/
LOCATION:Conference Room
CATEGORIES:Property
ATTACH;FMTTYPE=image/jpeg:https://chilsonhills.org/wp-content/uploads/2012/07/chilson_front1.jpg
ORGANIZER;CN="Greg Kidd":MAILTO:greg@chilsonhills.org
END:VEVENT
BEGIN:VEVENT
DTSTART;TZID=America/Detroit:20250107T100000
DTEND;TZID=America/Detroit:20250107T110000
DTSTAMP:20260417T192842
CREATED:20240827T154308Z
LAST-MODIFIED:20240827T154309Z
UID:10001588-1736244000-1736247600@chilsonhills.org
SUMMARY:Creative Worship Team Meeting
DESCRIPTION:We are always welcoming new members to this team. Join us and collaborate in designing creative worship! This group meets on zoom or in-person. Contact Director of Worship\, Amber Wist for details.
URL:https://chilsonhills.org/event/creative-worship-team-meeting-2/2025-01-07/
LOCATION:Conference Room
CATEGORIES:Prayer,Worship Service
ATTACH;FMTTYPE=image/jpeg:https://chilsonhills.org/wp-content/uploads/2015/07/i-NpDXCKT-2602x1952.jpg
ORGANIZER;CN="Angela Miller":MAILTO:angela@chilsonhills.org
END:VEVENT
BEGIN:VEVENT
DTSTART;TZID=America/Detroit:20250105T100000
DTEND;TZID=America/Detroit:20250105T110000
DTSTAMP:20260417T192842
CREATED:20200617T025940Z
LAST-MODIFIED:20220730T235348Z
UID:10000901-1736071200-1736074800@chilsonhills.org
SUMMARY:Sunday Morning Worship
DESCRIPTION:You’re invited every week at 10:00am in-person and online\nLocation: Worship Center or Outdoor Garden (depending on weather)
URL:https://chilsonhills.org/event/worship-service-2/2025-01-05/
LOCATION:CHC Worship Center\, 4440 Brighton Rd.\, Howell\, MI\, 48843\, United States
CATEGORIES:Worship Service
ATTACH;FMTTYPE=image/jpeg:https://chilsonhills.org/wp-content/uploads/2020/07/20200705_101511.jpg
GEO:42.525534;-83.8629275
X-APPLE-STRUCTURED-LOCATION;VALUE=URI;X-ADDRESS=CHC Worship Center 4440 Brighton Rd. Howell MI 48843 United States;X-APPLE-RADIUS=500;X-TITLE=4440 Brighton Rd.:geo:-83.8629275,42.525534
END:VEVENT
BEGIN:VEVENT
DTSTART;TZID=America/Detroit:20241231T100000
DTEND;TZID=America/Detroit:20241231T110000
DTSTAMP:20260417T192842
CREATED:20240827T154308Z
LAST-MODIFIED:20240827T154309Z
UID:10001587-1735639200-1735642800@chilsonhills.org
SUMMARY:Creative Worship Team Meeting
DESCRIPTION:We are always welcoming new members to this team. Join us and collaborate in designing creative worship! This group meets on zoom or in-person. Contact Director of Worship\, Amber Wist for details.
URL:https://chilsonhills.org/event/creative-worship-team-meeting-2/2024-12-31/
LOCATION:Conference Room
CATEGORIES:Prayer,Worship Service
ATTACH;FMTTYPE=image/jpeg:https://chilsonhills.org/wp-content/uploads/2015/07/i-NpDXCKT-2602x1952.jpg
ORGANIZER;CN="Angela Miller":MAILTO:angela@chilsonhills.org
END:VEVENT
BEGIN:VEVENT
DTSTART;TZID=America/Detroit:20241229T100000
DTEND;TZID=America/Detroit:20241229T110000
DTSTAMP:20260417T192842
CREATED:20200617T025940Z
LAST-MODIFIED:20220730T235348Z
UID:10000900-1735466400-1735470000@chilsonhills.org
SUMMARY:Sunday Morning Worship
DESCRIPTION:You’re invited every week at 10:00am in-person and online\nLocation: Worship Center or Outdoor Garden (depending on weather)
URL:https://chilsonhills.org/event/worship-service-2/2024-12-29/
LOCATION:CHC Worship Center\, 4440 Brighton Rd.\, Howell\, MI\, 48843\, United States
CATEGORIES:Worship Service
ATTACH;FMTTYPE=image/jpeg:https://chilsonhills.org/wp-content/uploads/2020/07/20200705_101511.jpg
GEO:42.525534;-83.8629275
X-APPLE-STRUCTURED-LOCATION;VALUE=URI;X-ADDRESS=CHC Worship Center 4440 Brighton Rd. Howell MI 48843 United States;X-APPLE-RADIUS=500;X-TITLE=4440 Brighton Rd.:geo:-83.8629275,42.525534
END:VEVENT
BEGIN:VEVENT
DTSTART;TZID=America/Detroit:20241224T180000
DTEND;TZID=America/Detroit:20241224T200000
DTSTAMP:20260417T192842
CREATED:20241126T152802Z
LAST-MODIFIED:20241126T152802Z
UID:10001853-1735063200-1735070400@chilsonhills.org
SUMMARY:Christmas Eve Candlelight Service 2024
DESCRIPTION:
URL:https://chilsonhills.org/event/christmas-eve-candlelight-service-2024/
LOCATION:MI
CATEGORIES:Christmas,Community,Music Performance
ATTACH;FMTTYPE=image/jpeg:https://chilsonhills.org/wp-content/uploads/2022/11/ChristmasEve2022.jpg
END:VEVENT
BEGIN:VEVENT
DTSTART;TZID=America/Detroit:20241224T100000
DTEND;TZID=America/Detroit:20241224T110000
DTSTAMP:20260417T192842
CREATED:20240827T154308Z
LAST-MODIFIED:20240827T154309Z
UID:10001586-1735034400-1735038000@chilsonhills.org
SUMMARY:Creative Worship Team Meeting
DESCRIPTION:We are always welcoming new members to this team. Join us and collaborate in designing creative worship! This group meets on zoom or in-person. Contact Director of Worship\, Amber Wist for details.
URL:https://chilsonhills.org/event/creative-worship-team-meeting-2/2024-12-24/
LOCATION:Conference Room
CATEGORIES:Prayer,Worship Service
ATTACH;FMTTYPE=image/jpeg:https://chilsonhills.org/wp-content/uploads/2015/07/i-NpDXCKT-2602x1952.jpg
ORGANIZER;CN="Angela Miller":MAILTO:angela@chilsonhills.org
END:VEVENT
BEGIN:VEVENT
DTSTART;TZID=America/Detroit:20241222T100000
DTEND;TZID=America/Detroit:20241222T110000
DTSTAMP:20260417T192842
CREATED:20200617T025940Z
LAST-MODIFIED:20220730T235348Z
UID:10000899-1734861600-1734865200@chilsonhills.org
SUMMARY:Sunday Morning Worship
DESCRIPTION:You’re invited every week at 10:00am in-person and online\nLocation: Worship Center or Outdoor Garden (depending on weather)
URL:https://chilsonhills.org/event/worship-service-2/2024-12-22/
LOCATION:CHC Worship Center\, 4440 Brighton Rd.\, Howell\, MI\, 48843\, United States
CATEGORIES:Worship Service
ATTACH;FMTTYPE=image/jpeg:https://chilsonhills.org/wp-content/uploads/2020/07/20200705_101511.jpg
GEO:42.525534;-83.8629275
X-APPLE-STRUCTURED-LOCATION;VALUE=URI;X-ADDRESS=CHC Worship Center 4440 Brighton Rd. Howell MI 48843 United States;X-APPLE-RADIUS=500;X-TITLE=4440 Brighton Rd.:geo:-83.8629275,42.525534
END:VEVENT
BEGIN:VEVENT
DTSTART;TZID=America/Detroit:20241219T183000
DTEND;TZID=America/Detroit:20241219T200000
DTSTAMP:20260417T192842
CREATED:20231207T165551Z
LAST-MODIFIED:20231207T170555Z
UID:10001255-1734633000-1734638400@chilsonhills.org
SUMMARY:Executive Ministry Team
DESCRIPTION:
URL:https://chilsonhills.org/event/executive-ministry-team-2/2024-12-19/
LOCATION:Conference Room
CATEGORIES:EMT
ATTACH;FMTTYPE=image/jpeg:https://chilsonhills.org/wp-content/uploads/2022/05/ministry-team.jpg
END:VEVENT
BEGIN:VEVENT
DTSTART;TZID=America/Detroit:20241217T100000
DTEND;TZID=America/Detroit:20241217T110000
DTSTAMP:20260417T192842
CREATED:20240827T154308Z
LAST-MODIFIED:20240827T154309Z
UID:10001585-1734429600-1734433200@chilsonhills.org
SUMMARY:Creative Worship Team Meeting
DESCRIPTION:We are always welcoming new members to this team. Join us and collaborate in designing creative worship! This group meets on zoom or in-person. Contact Director of Worship\, Amber Wist for details.
URL:https://chilsonhills.org/event/creative-worship-team-meeting-2/2024-12-17/
LOCATION:Conference Room
CATEGORIES:Prayer,Worship Service
ATTACH;FMTTYPE=image/jpeg:https://chilsonhills.org/wp-content/uploads/2015/07/i-NpDXCKT-2602x1952.jpg
ORGANIZER;CN="Angela Miller":MAILTO:angela@chilsonhills.org
END:VEVENT
BEGIN:VEVENT
DTSTART;TZID=America/Detroit:20241217T080000
DTEND;TZID=America/Detroit:20241217T170000
DTSTAMP:20260417T192842
CREATED:20240507T174937Z
LAST-MODIFIED:20240507T174937Z
UID:10001555-1734422400-1734454800@chilsonhills.org
SUMMARY:Life Line Screening
DESCRIPTION:
URL:https://chilsonhills.org/event/life-line-screening-3/
LOCATION:CHC Worship Center\, 4440 Brighton Rd.\, Howell\, MI\, 48843\, United States
CATEGORIES:Building Rental,Community
ATTACH;FMTTYPE=image/jpeg:https://chilsonhills.org/wp-content/uploads/2015/07/BloodDrive.jpg
GEO:42.525534;-83.8629275
X-APPLE-STRUCTURED-LOCATION;VALUE=URI;X-ADDRESS=CHC Worship Center 4440 Brighton Rd. Howell MI 48843 United States;X-APPLE-RADIUS=500;X-TITLE=4440 Brighton Rd.:geo:-83.8629275,42.525534
END:VEVENT
BEGIN:VEVENT
DTSTART;TZID=America/Detroit:20241215T130000
DTEND;TZID=America/Detroit:20241215T180000
DTSTAMP:20260417T192842
CREATED:20241007T143421Z
LAST-MODIFIED:20241007T143421Z
UID:10001830-1734267600-1734285600@chilsonhills.org
SUMMARY:Private Rental - Music Recital
DESCRIPTION:
URL:https://chilsonhills.org/event/private-rental-music-recital-5/
LOCATION:MI
CATEGORIES:Building Rental,Music Performance
ATTACH;FMTTYPE=image/jpeg:https://chilsonhills.org/wp-content/uploads/2023/03/marietta_2014_-170-of-538.jpg
END:VEVENT
BEGIN:VEVENT
DTSTART;TZID=America/Detroit:20241215T100000
DTEND;TZID=America/Detroit:20241215T110000
DTSTAMP:20260417T192842
CREATED:20200617T025940Z
LAST-MODIFIED:20220730T235348Z
UID:10000898-1734256800-1734260400@chilsonhills.org
SUMMARY:Sunday Morning Worship
DESCRIPTION:You’re invited every week at 10:00am in-person and online\nLocation: Worship Center or Outdoor Garden (depending on weather)
URL:https://chilsonhills.org/event/worship-service-2/2024-12-15/
LOCATION:CHC Worship Center\, 4440 Brighton Rd.\, Howell\, MI\, 48843\, United States
CATEGORIES:Worship Service
ATTACH;FMTTYPE=image/jpeg:https://chilsonhills.org/wp-content/uploads/2020/07/20200705_101511.jpg
GEO:42.525534;-83.8629275
X-APPLE-STRUCTURED-LOCATION;VALUE=URI;X-ADDRESS=CHC Worship Center 4440 Brighton Rd. Howell MI 48843 United States;X-APPLE-RADIUS=500;X-TITLE=4440 Brighton Rd.:geo:-83.8629275,42.525534
END:VEVENT
BEGIN:VEVENT
DTSTART;TZID=America/Detroit:20241213T183000
DTEND;TZID=America/Detroit:20241213T210000
DTSTAMP:20260417T192842
CREATED:20241119T171240Z
LAST-MODIFIED:20241119T171240Z
UID:10001850-1734114600-1734123600@chilsonhills.org
SUMMARY:Euchre Night
DESCRIPTION:
URL:https://chilsonhills.org/event/euchre-night-7/
LOCATION:MI
CATEGORIES:Euchre Night,Family,Fellowship
ATTACH;FMTTYPE=image/jpeg:https://chilsonhills.org/wp-content/uploads/2023/12/basic-euchre-night.jpg
END:VEVENT
BEGIN:VEVENT
DTSTART;TZID=America/Detroit:20241212T180000
DTEND;TZID=America/Detroit:20241212T200000
DTSTAMP:20260417T192842
CREATED:20241007T144945Z
LAST-MODIFIED:20241126T144902Z
UID:10001831-1734026400-1734033600@chilsonhills.org
SUMMARY:Blue Christmas Service
DESCRIPTION:
URL:https://chilsonhills.org/event/blue-christmas-service-2/
LOCATION:CHC Worship Center\, 4440 Brighton Rd.\, Howell\, MI\, 48843\, United States
CATEGORIES:Community,Family,Worship Service
ATTACH;FMTTYPE=image/jpeg:https://chilsonhills.org/wp-content/uploads/2023/12/A_Blue_Christmas_Service.jpg
GEO:42.525534;-83.8629275
X-APPLE-STRUCTURED-LOCATION;VALUE=URI;X-ADDRESS=CHC Worship Center 4440 Brighton Rd. Howell MI 48843 United States;X-APPLE-RADIUS=500;X-TITLE=4440 Brighton Rd.:geo:-83.8629275,42.525534
END:VEVENT
BEGIN:VEVENT
DTSTART;TZID=America/Detroit:20241211T170000
DTEND;TZID=America/Detroit:20241211T180000
DTSTAMP:20260417T192842
CREATED:20240506T131440Z
LAST-MODIFIED:20240506T131441Z
UID:10001502-1733936400-1733940000@chilsonhills.org
SUMMARY:Property Management Team Meeting
DESCRIPTION:
URL:https://chilsonhills.org/event/property-management-team-meeting-2-2/2024-12-11/
LOCATION:Conference Room
CATEGORIES:Property
ATTACH;FMTTYPE=image/jpeg:https://chilsonhills.org/wp-content/uploads/2012/07/chilson_front1.jpg
ORGANIZER;CN="Greg Kidd":MAILTO:greg@chilsonhills.org
END:VEVENT
BEGIN:VEVENT
DTSTART;TZID=America/Detroit:20241210T100000
DTEND;TZID=America/Detroit:20241210T110000
DTSTAMP:20260417T192842
CREATED:20240827T154308Z
LAST-MODIFIED:20240827T154309Z
UID:10001584-1733824800-1733828400@chilsonhills.org
SUMMARY:Creative Worship Team Meeting
DESCRIPTION:We are always welcoming new members to this team. Join us and collaborate in designing creative worship! This group meets on zoom or in-person. Contact Director of Worship\, Amber Wist for details.
URL:https://chilsonhills.org/event/creative-worship-team-meeting-2/2024-12-10/
LOCATION:Conference Room
CATEGORIES:Prayer,Worship Service
ATTACH;FMTTYPE=image/jpeg:https://chilsonhills.org/wp-content/uploads/2015/07/i-NpDXCKT-2602x1952.jpg
ORGANIZER;CN="Angela Miller":MAILTO:angela@chilsonhills.org
END:VEVENT
BEGIN:VEVENT
DTSTART;TZID=America/Detroit:20241208T100000
DTEND;TZID=America/Detroit:20241208T110000
DTSTAMP:20260417T192842
CREATED:20200617T025940Z
LAST-MODIFIED:20220730T235348Z
UID:10000897-1733652000-1733655600@chilsonhills.org
SUMMARY:Sunday Morning Worship
DESCRIPTION:You’re invited every week at 10:00am in-person and online\nLocation: Worship Center or Outdoor Garden (depending on weather)
URL:https://chilsonhills.org/event/worship-service-2/2024-12-08/
LOCATION:CHC Worship Center\, 4440 Brighton Rd.\, Howell\, MI\, 48843\, United States
CATEGORIES:Worship Service
ATTACH;FMTTYPE=image/jpeg:https://chilsonhills.org/wp-content/uploads/2020/07/20200705_101511.jpg
GEO:42.525534;-83.8629275
X-APPLE-STRUCTURED-LOCATION;VALUE=URI;X-ADDRESS=CHC Worship Center 4440 Brighton Rd. Howell MI 48843 United States;X-APPLE-RADIUS=500;X-TITLE=4440 Brighton Rd.:geo:-83.8629275,42.525534
END:VEVENT
BEGIN:VEVENT
DTSTART;VALUE=DATE:20241206
DTEND;VALUE=DATE:20241207
DTSTAMP:20260417T192842
CREATED:20240507T175130Z
LAST-MODIFIED:20240507T175130Z
UID:10001556-1733443200-1733529599@chilsonhills.org
SUMMARY:Blood Drive
DESCRIPTION:
URL:https://chilsonhills.org/event/blood-drive-15/
LOCATION:CHC Worship Center\, 4440 Brighton Rd.\, Howell\, MI\, 48843\, United States
CATEGORIES:Blood Drive
ATTACH;FMTTYPE=image/jpeg:https://chilsonhills.org/wp-content/uploads/2017/10/give-blood.jpg
GEO:42.525534;-83.8629275
X-APPLE-STRUCTURED-LOCATION;VALUE=URI;X-ADDRESS=CHC Worship Center 4440 Brighton Rd. Howell MI 48843 United States;X-APPLE-RADIUS=500;X-TITLE=4440 Brighton Rd.:geo:-83.8629275,42.525534
END:VEVENT
BEGIN:VEVENT
DTSTART;TZID=America/Detroit:20241203T100000
DTEND;TZID=America/Detroit:20241203T110000
DTSTAMP:20260417T192842
CREATED:20240827T154308Z
LAST-MODIFIED:20240827T154309Z
UID:10001583-1733220000-1733223600@chilsonhills.org
SUMMARY:Creative Worship Team Meeting
DESCRIPTION:We are always welcoming new members to this team. Join us and collaborate in designing creative worship! This group meets on zoom or in-person. Contact Director of Worship\, Amber Wist for details.
URL:https://chilsonhills.org/event/creative-worship-team-meeting-2/2024-12-03/
LOCATION:Conference Room
CATEGORIES:Prayer,Worship Service
ATTACH;FMTTYPE=image/jpeg:https://chilsonhills.org/wp-content/uploads/2015/07/i-NpDXCKT-2602x1952.jpg
ORGANIZER;CN="Angela Miller":MAILTO:angela@chilsonhills.org
END:VEVENT
BEGIN:VEVENT
DTSTART;TZID=America/Detroit:20241201T100000
DTEND;TZID=America/Detroit:20241201T110000
DTSTAMP:20260417T192842
CREATED:20200617T025940Z
LAST-MODIFIED:20220730T235348Z
UID:10000896-1733047200-1733050800@chilsonhills.org
SUMMARY:Sunday Morning Worship
DESCRIPTION:You’re invited every week at 10:00am in-person and online\nLocation: Worship Center or Outdoor Garden (depending on weather)
URL:https://chilsonhills.org/event/worship-service-2/2024-12-01/
LOCATION:CHC Worship Center\, 4440 Brighton Rd.\, Howell\, MI\, 48843\, United States
CATEGORIES:Worship Service
ATTACH;FMTTYPE=image/jpeg:https://chilsonhills.org/wp-content/uploads/2020/07/20200705_101511.jpg
GEO:42.525534;-83.8629275
X-APPLE-STRUCTURED-LOCATION;VALUE=URI;X-ADDRESS=CHC Worship Center 4440 Brighton Rd. Howell MI 48843 United States;X-APPLE-RADIUS=500;X-TITLE=4440 Brighton Rd.:geo:-83.8629275,42.525534
END:VEVENT
BEGIN:VEVENT
DTSTART;TZID=America/Detroit:20241126T100000
DTEND;TZID=America/Detroit:20241126T110000
DTSTAMP:20260417T192842
CREATED:20240827T154308Z
LAST-MODIFIED:20240827T154309Z
UID:10001582-1732615200-1732618800@chilsonhills.org
SUMMARY:Creative Worship Team Meeting
DESCRIPTION:We are always welcoming new members to this team. Join us and collaborate in designing creative worship! This group meets on zoom or in-person. Contact Director of Worship\, Amber Wist for details.
URL:https://chilsonhills.org/event/creative-worship-team-meeting-2/2024-11-26/
LOCATION:Conference Room
CATEGORIES:Prayer,Worship Service
ATTACH;FMTTYPE=image/jpeg:https://chilsonhills.org/wp-content/uploads/2015/07/i-NpDXCKT-2602x1952.jpg
ORGANIZER;CN="Angela Miller":MAILTO:angela@chilsonhills.org
END:VEVENT
BEGIN:VEVENT
DTSTART;TZID=America/Detroit:20241124T110000
DTEND;TZID=America/Detroit:20241124T130000
DTSTAMP:20260417T192842
CREATED:20241007T145514Z
LAST-MODIFIED:20241022T141946Z
UID:10001833-1732446000-1732453200@chilsonhills.org
SUMMARY:Hanging of the Greens!
DESCRIPTION:Come Deck the Halls with us and help get Chilson ready for the holiday season. It’s lots of fun and we will feed you!
URL:https://chilsonhills.org/event/hanging-of-the-greens/
LOCATION:Chilson Hills Church\, 4440 Brighton Rd.\, Howell\, MI\, 48843\, United States
CATEGORIES:Christmas,Fellowship,Hanging of The Greens
ATTACH;FMTTYPE=image/jpeg:https://chilsonhills.org/wp-content/uploads/2022/08/Hanging-of-the-Greens.jpg
GEO:42.525534;-83.8629275
X-APPLE-STRUCTURED-LOCATION;VALUE=URI;X-ADDRESS=Chilson Hills Church 4440 Brighton Rd. Howell MI 48843 United States;X-APPLE-RADIUS=500;X-TITLE=4440 Brighton Rd.:geo:-83.8629275,42.525534
END:VEVENT
END:VCALENDAR