BEGIN:VCALENDAR
VERSION:2.0
PRODID:-//Chilson Hills Church - ECPv6.15.20//NONSGML v1.0//EN
CALSCALE:GREGORIAN
METHOD:PUBLISH
X-WR-CALNAME:Chilson Hills Church
X-ORIGINAL-URL:https://chilsonhills.org
X-WR-CALDESC:Events for Chilson Hills Church
REFRESH-INTERVAL;VALUE=DURATION:PT1H
X-Robots-Tag:noindex
X-PUBLISHED-TTL:PT1H
BEGIN:VTIMEZONE
TZID:America/Detroit
BEGIN:DAYLIGHT
TZOFFSETFROM:-0500
TZOFFSETTO:-0400
TZNAME:EDT
DTSTART:20240310T070000
END:DAYLIGHT
BEGIN:STANDARD
TZOFFSETFROM:-0400
TZOFFSETTO:-0500
TZNAME:EST
DTSTART:20241103T060000
END:STANDARD
BEGIN:DAYLIGHT
TZOFFSETFROM:-0500
TZOFFSETTO:-0400
TZNAME:EDT
DTSTART:20250309T070000
END:DAYLIGHT
BEGIN:STANDARD
TZOFFSETFROM:-0400
TZOFFSETTO:-0500
TZNAME:EST
DTSTART:20251102T060000
END:STANDARD
BEGIN:DAYLIGHT
TZOFFSETFROM:-0500
TZOFFSETTO:-0400
TZNAME:EDT
DTSTART:20260308T070000
END:DAYLIGHT
BEGIN:STANDARD
TZOFFSETFROM:-0400
TZOFFSETTO:-0500
TZNAME:EST
DTSTART:20261101T060000
END:STANDARD
END:VTIMEZONE
BEGIN:VEVENT
DTSTART;TZID=America/Detroit:20250309T100000
DTEND;TZID=America/Detroit:20250309T110000
DTSTAMP:20260419T060121
CREATED:20200617T025940Z
LAST-MODIFIED:20220730T235348Z
UID:10000910-1741514400-1741518000@chilsonhills.org
SUMMARY:Sunday Morning Worship
DESCRIPTION:You’re invited every week at 10:00am in-person and online\nLocation: Worship Center or Outdoor Garden (depending on weather)
URL:https://chilsonhills.org/event/worship-service-2/2025-03-09/
LOCATION:CHC Worship Center\, 4440 Brighton Rd.\, Howell\, MI\, 48843\, United States
CATEGORIES:Worship Service
ATTACH;FMTTYPE=image/jpeg:https://chilsonhills.org/wp-content/uploads/2020/07/20200705_101511.jpg
GEO:42.525534;-83.8629275
X-APPLE-STRUCTURED-LOCATION;VALUE=URI;X-ADDRESS=CHC Worship Center 4440 Brighton Rd. Howell MI 48843 United States;X-APPLE-RADIUS=500;X-TITLE=4440 Brighton Rd.:geo:-83.8629275,42.525534
END:VEVENT
BEGIN:VEVENT
DTSTART;TZID=America/Detroit:20250311T100000
DTEND;TZID=America/Detroit:20250311T110000
DTSTAMP:20260419T060121
CREATED:20240827T154308Z
LAST-MODIFIED:20240827T154309Z
UID:10001597-1741687200-1741690800@chilsonhills.org
SUMMARY:Creative Worship Team Meeting
DESCRIPTION:We are always welcoming new members to this team. Join us and collaborate in designing creative worship! This group meets on zoom or in-person. Contact Director of Worship\, Amber Wist for details.
URL:https://chilsonhills.org/event/creative-worship-team-meeting-2/2025-03-11/
LOCATION:Conference Room
CATEGORIES:Prayer,Worship Service
ATTACH;FMTTYPE=image/jpeg:https://chilsonhills.org/wp-content/uploads/2015/07/i-NpDXCKT-2602x1952.jpg
ORGANIZER;CN="Angela Miller":MAILTO:angela@chilsonhills.org
END:VEVENT
BEGIN:VEVENT
DTSTART;TZID=America/Detroit:20250312T170000
DTEND;TZID=America/Detroit:20250312T180000
DTSTAMP:20260419T060121
CREATED:20240506T131440Z
LAST-MODIFIED:20240506T131441Z
UID:10001505-1741798800-1741802400@chilsonhills.org
SUMMARY:Property Management Team Meeting
DESCRIPTION:
URL:https://chilsonhills.org/event/property-management-team-meeting-2-2/2025-03-12/
LOCATION:Conference Room
CATEGORIES:Property
ATTACH;FMTTYPE=image/jpeg:https://chilsonhills.org/wp-content/uploads/2012/07/chilson_front1.jpg
ORGANIZER;CN="Greg Kidd":MAILTO:greg@chilsonhills.org
END:VEVENT
BEGIN:VEVENT
DTSTART;TZID=America/Detroit:20250314T183000
DTEND;TZID=America/Detroit:20250314T210000
DTSTAMP:20260419T060121
CREATED:20250107T145655Z
LAST-MODIFIED:20250107T145655Z
UID:10001857-1741977000-1741986000@chilsonhills.org
SUMMARY:Euchre Night
DESCRIPTION:
URL:https://chilsonhills.org/event/euchre-night-10/
LOCATION:MI
CATEGORIES:Euchre Night,Family,Fellowship
ATTACH;FMTTYPE=image/jpeg:https://chilsonhills.org/wp-content/uploads/2023/12/basic-euchre-night.jpg
END:VEVENT
BEGIN:VEVENT
DTSTART;TZID=America/Detroit:20250315T180000
DTEND;TZID=America/Detroit:20250315T210000
DTSTAMP:20260419T060121
CREATED:20250120T155812Z
LAST-MODIFIED:20250120T155812Z
UID:10001860-1742061600-1742072400@chilsonhills.org
SUMMARY:Chili Cook-Off
DESCRIPTION:This event is sponsored by the Youth Group and Family Life Ministry Team.\nTo enter your pot of chili contact Donald Kelley.
URL:https://chilsonhills.org/event/chili-cook-off-3/
LOCATION:CHC Worship Center\, 4440 Brighton Rd.\, Howell\, MI\, 48843\, United States
CATEGORIES:Chili Cookoff,Community,Dinner,Family,Kids
ATTACH;FMTTYPE=image/jpeg:https://chilsonhills.org/wp-content/uploads/2023/03/chili-pic.jpg
GEO:42.525534;-83.8629275
X-APPLE-STRUCTURED-LOCATION;VALUE=URI;X-ADDRESS=CHC Worship Center 4440 Brighton Rd. Howell MI 48843 United States;X-APPLE-RADIUS=500;X-TITLE=4440 Brighton Rd.:geo:-83.8629275,42.525534
END:VEVENT
BEGIN:VEVENT
DTSTART;TZID=America/Detroit:20250316T100000
DTEND;TZID=America/Detroit:20250316T110000
DTSTAMP:20260419T060121
CREATED:20200617T025940Z
LAST-MODIFIED:20220730T235348Z
UID:10000911-1742119200-1742122800@chilsonhills.org
SUMMARY:Sunday Morning Worship
DESCRIPTION:You’re invited every week at 10:00am in-person and online\nLocation: Worship Center or Outdoor Garden (depending on weather)
URL:https://chilsonhills.org/event/worship-service-2/2025-03-16/
LOCATION:CHC Worship Center\, 4440 Brighton Rd.\, Howell\, MI\, 48843\, United States
CATEGORIES:Worship Service
ATTACH;FMTTYPE=image/jpeg:https://chilsonhills.org/wp-content/uploads/2020/07/20200705_101511.jpg
GEO:42.525534;-83.8629275
X-APPLE-STRUCTURED-LOCATION;VALUE=URI;X-ADDRESS=CHC Worship Center 4440 Brighton Rd. Howell MI 48843 United States;X-APPLE-RADIUS=500;X-TITLE=4440 Brighton Rd.:geo:-83.8629275,42.525534
END:VEVENT
BEGIN:VEVENT
DTSTART;TZID=America/Detroit:20250318T100000
DTEND;TZID=America/Detroit:20250318T110000
DTSTAMP:20260419T060121
CREATED:20240827T154308Z
LAST-MODIFIED:20240827T154309Z
UID:10001598-1742292000-1742295600@chilsonhills.org
SUMMARY:Creative Worship Team Meeting
DESCRIPTION:We are always welcoming new members to this team. Join us and collaborate in designing creative worship! This group meets on zoom or in-person. Contact Director of Worship\, Amber Wist for details.
URL:https://chilsonhills.org/event/creative-worship-team-meeting-2/2025-03-18/
LOCATION:Conference Room
CATEGORIES:Prayer,Worship Service
ATTACH;FMTTYPE=image/jpeg:https://chilsonhills.org/wp-content/uploads/2015/07/i-NpDXCKT-2602x1952.jpg
ORGANIZER;CN="Angela Miller":MAILTO:angela@chilsonhills.org
END:VEVENT
BEGIN:VEVENT
DTSTART;TZID=America/Detroit:20250320T183000
DTEND;TZID=America/Detroit:20250320T200000
DTSTAMP:20260419T060121
CREATED:20231207T165551Z
LAST-MODIFIED:20231207T170555Z
UID:10001258-1742495400-1742500800@chilsonhills.org
SUMMARY:Executive Ministry Team
DESCRIPTION:
URL:https://chilsonhills.org/event/executive-ministry-team-2/2025-03-20/
LOCATION:Conference Room
CATEGORIES:EMT
ATTACH;FMTTYPE=image/jpeg:https://chilsonhills.org/wp-content/uploads/2022/05/ministry-team.jpg
END:VEVENT
BEGIN:VEVENT
DTSTART;TZID=America/Detroit:20250323T100000
DTEND;TZID=America/Detroit:20250323T110000
DTSTAMP:20260419T060121
CREATED:20200617T025940Z
LAST-MODIFIED:20220730T235348Z
UID:10000912-1742724000-1742727600@chilsonhills.org
SUMMARY:Sunday Morning Worship
DESCRIPTION:You’re invited every week at 10:00am in-person and online\nLocation: Worship Center or Outdoor Garden (depending on weather)
URL:https://chilsonhills.org/event/worship-service-2/2025-03-23/
LOCATION:CHC Worship Center\, 4440 Brighton Rd.\, Howell\, MI\, 48843\, United States
CATEGORIES:Worship Service
ATTACH;FMTTYPE=image/jpeg:https://chilsonhills.org/wp-content/uploads/2020/07/20200705_101511.jpg
GEO:42.525534;-83.8629275
X-APPLE-STRUCTURED-LOCATION;VALUE=URI;X-ADDRESS=CHC Worship Center 4440 Brighton Rd. Howell MI 48843 United States;X-APPLE-RADIUS=500;X-TITLE=4440 Brighton Rd.:geo:-83.8629275,42.525534
END:VEVENT
BEGIN:VEVENT
DTSTART;TZID=America/Detroit:20250325T100000
DTEND;TZID=America/Detroit:20250325T110000
DTSTAMP:20260419T060121
CREATED:20240827T154308Z
LAST-MODIFIED:20240827T154309Z
UID:10001599-1742896800-1742900400@chilsonhills.org
SUMMARY:Creative Worship Team Meeting
DESCRIPTION:We are always welcoming new members to this team. Join us and collaborate in designing creative worship! This group meets on zoom or in-person. Contact Director of Worship\, Amber Wist for details.
URL:https://chilsonhills.org/event/creative-worship-team-meeting-2/2025-03-25/
LOCATION:Conference Room
CATEGORIES:Prayer,Worship Service
ATTACH;FMTTYPE=image/jpeg:https://chilsonhills.org/wp-content/uploads/2015/07/i-NpDXCKT-2602x1952.jpg
ORGANIZER;CN="Angela Miller":MAILTO:angela@chilsonhills.org
END:VEVENT
BEGIN:VEVENT
DTSTART;TZID=America/Detroit:20250330T100000
DTEND;TZID=America/Detroit:20250330T110000
DTSTAMP:20260419T060121
CREATED:20200617T025940Z
LAST-MODIFIED:20220730T235348Z
UID:10000913-1743328800-1743332400@chilsonhills.org
SUMMARY:Sunday Morning Worship
DESCRIPTION:You’re invited every week at 10:00am in-person and online\nLocation: Worship Center or Outdoor Garden (depending on weather)
URL:https://chilsonhills.org/event/worship-service-2/2025-03-30/
LOCATION:CHC Worship Center\, 4440 Brighton Rd.\, Howell\, MI\, 48843\, United States
CATEGORIES:Worship Service
ATTACH;FMTTYPE=image/jpeg:https://chilsonhills.org/wp-content/uploads/2020/07/20200705_101511.jpg
GEO:42.525534;-83.8629275
X-APPLE-STRUCTURED-LOCATION;VALUE=URI;X-ADDRESS=CHC Worship Center 4440 Brighton Rd. Howell MI 48843 United States;X-APPLE-RADIUS=500;X-TITLE=4440 Brighton Rd.:geo:-83.8629275,42.525534
END:VEVENT
BEGIN:VEVENT
DTSTART;TZID=America/Detroit:20250401T100000
DTEND;TZID=America/Detroit:20250401T110000
DTSTAMP:20260419T060121
CREATED:20240827T154308Z
LAST-MODIFIED:20240827T154309Z
UID:10001600-1743501600-1743505200@chilsonhills.org
SUMMARY:Creative Worship Team Meeting
DESCRIPTION:We are always welcoming new members to this team. Join us and collaborate in designing creative worship! This group meets on zoom or in-person. Contact Director of Worship\, Amber Wist for details.
URL:https://chilsonhills.org/event/creative-worship-team-meeting-2/2025-04-01/
LOCATION:Conference Room
CATEGORIES:Prayer,Worship Service
ATTACH;FMTTYPE=image/jpeg:https://chilsonhills.org/wp-content/uploads/2015/07/i-NpDXCKT-2602x1952.jpg
ORGANIZER;CN="Angela Miller":MAILTO:angela@chilsonhills.org
END:VEVENT
BEGIN:VEVENT
DTSTART;TZID=America/Detroit:20250406T100000
DTEND;TZID=America/Detroit:20250406T110000
DTSTAMP:20260419T060121
CREATED:20200617T025940Z
LAST-MODIFIED:20220730T235348Z
UID:10000914-1743933600-1743937200@chilsonhills.org
SUMMARY:Sunday Morning Worship
DESCRIPTION:You’re invited every week at 10:00am in-person and online\nLocation: Worship Center or Outdoor Garden (depending on weather)
URL:https://chilsonhills.org/event/worship-service-2/2025-04-06/
LOCATION:CHC Worship Center\, 4440 Brighton Rd.\, Howell\, MI\, 48843\, United States
CATEGORIES:Worship Service
ATTACH;FMTTYPE=image/jpeg:https://chilsonhills.org/wp-content/uploads/2020/07/20200705_101511.jpg
GEO:42.525534;-83.8629275
X-APPLE-STRUCTURED-LOCATION;VALUE=URI;X-ADDRESS=CHC Worship Center 4440 Brighton Rd. Howell MI 48843 United States;X-APPLE-RADIUS=500;X-TITLE=4440 Brighton Rd.:geo:-83.8629275,42.525534
END:VEVENT
BEGIN:VEVENT
DTSTART;TZID=America/Detroit:20250408T100000
DTEND;TZID=America/Detroit:20250408T110000
DTSTAMP:20260419T060121
CREATED:20240827T154308Z
LAST-MODIFIED:20240827T154309Z
UID:10001601-1744106400-1744110000@chilsonhills.org
SUMMARY:Creative Worship Team Meeting
DESCRIPTION:We are always welcoming new members to this team. Join us and collaborate in designing creative worship! This group meets on zoom or in-person. Contact Director of Worship\, Amber Wist for details.
URL:https://chilsonhills.org/event/creative-worship-team-meeting-2/2025-04-08/
LOCATION:Conference Room
CATEGORIES:Prayer,Worship Service
ATTACH;FMTTYPE=image/jpeg:https://chilsonhills.org/wp-content/uploads/2015/07/i-NpDXCKT-2602x1952.jpg
ORGANIZER;CN="Angela Miller":MAILTO:angela@chilsonhills.org
END:VEVENT
BEGIN:VEVENT
DTSTART;TZID=America/Detroit:20250409T170000
DTEND;TZID=America/Detroit:20250409T180000
DTSTAMP:20260419T060121
CREATED:20240506T131440Z
LAST-MODIFIED:20240506T131441Z
UID:10001506-1744218000-1744221600@chilsonhills.org
SUMMARY:Property Management Team Meeting
DESCRIPTION:
URL:https://chilsonhills.org/event/property-management-team-meeting-2-2/2025-04-09/
LOCATION:Conference Room
CATEGORIES:Property
ATTACH;FMTTYPE=image/jpeg:https://chilsonhills.org/wp-content/uploads/2012/07/chilson_front1.jpg
ORGANIZER;CN="Greg Kidd":MAILTO:greg@chilsonhills.org
END:VEVENT
BEGIN:VEVENT
DTSTART;TZID=America/Detroit:20250411T183000
DTEND;TZID=America/Detroit:20250411T210000
DTSTAMP:20260419T060121
CREATED:20250107T145726Z
LAST-MODIFIED:20250107T145726Z
UID:10001858-1744396200-1744405200@chilsonhills.org
SUMMARY:Euchre Night
DESCRIPTION:
URL:https://chilsonhills.org/event/euchre-night-11/
LOCATION:MI
CATEGORIES:Euchre Night,Family,Fellowship
ATTACH;FMTTYPE=image/jpeg:https://chilsonhills.org/wp-content/uploads/2023/12/basic-euchre-night.jpg
END:VEVENT
BEGIN:VEVENT
DTSTART;TZID=America/Detroit:20250413T100000
DTEND;TZID=America/Detroit:20250413T110000
DTSTAMP:20260419T060121
CREATED:20200617T025940Z
LAST-MODIFIED:20220730T235348Z
UID:10000915-1744538400-1744542000@chilsonhills.org
SUMMARY:Sunday Morning Worship
DESCRIPTION:You’re invited every week at 10:00am in-person and online\nLocation: Worship Center or Outdoor Garden (depending on weather)
URL:https://chilsonhills.org/event/worship-service-2/2025-04-13/
LOCATION:CHC Worship Center\, 4440 Brighton Rd.\, Howell\, MI\, 48843\, United States
CATEGORIES:Worship Service
ATTACH;FMTTYPE=image/jpeg:https://chilsonhills.org/wp-content/uploads/2020/07/20200705_101511.jpg
GEO:42.525534;-83.8629275
X-APPLE-STRUCTURED-LOCATION;VALUE=URI;X-ADDRESS=CHC Worship Center 4440 Brighton Rd. Howell MI 48843 United States;X-APPLE-RADIUS=500;X-TITLE=4440 Brighton Rd.:geo:-83.8629275,42.525534
END:VEVENT
BEGIN:VEVENT
DTSTART;TZID=America/Detroit:20250415T100000
DTEND;TZID=America/Detroit:20250415T110000
DTSTAMP:20260419T060121
CREATED:20240827T154308Z
LAST-MODIFIED:20240827T154309Z
UID:10001602-1744711200-1744714800@chilsonhills.org
SUMMARY:Creative Worship Team Meeting
DESCRIPTION:We are always welcoming new members to this team. Join us and collaborate in designing creative worship! This group meets on zoom or in-person. Contact Director of Worship\, Amber Wist for details.
URL:https://chilsonhills.org/event/creative-worship-team-meeting-2/2025-04-15/
LOCATION:Conference Room
CATEGORIES:Prayer,Worship Service
ATTACH;FMTTYPE=image/jpeg:https://chilsonhills.org/wp-content/uploads/2015/07/i-NpDXCKT-2602x1952.jpg
ORGANIZER;CN="Angela Miller":MAILTO:angela@chilsonhills.org
END:VEVENT
BEGIN:VEVENT
DTSTART;TZID=America/Detroit:20250417T190000
DTEND;TZID=America/Detroit:20250417T200000
DTSTAMP:20260419T060121
CREATED:20250408T145140Z
LAST-MODIFIED:20250408T145140Z
UID:10001877-1744916400-1744920000@chilsonhills.org
SUMMARY:Thursday Blues - Maundy Thursday Service
DESCRIPTION:
URL:https://chilsonhills.org/event/thursday-blues-maundy-thursday-service-2/
LOCATION:MI
CATEGORIES:Community,Family,Music Performance,Thursday Blues,Worship Service
ATTACH;FMTTYPE=image/png:https://chilsonhills.org/wp-content/uploads/2016/03/Thursday-Blues3.png
END:VEVENT
BEGIN:VEVENT
DTSTART;VALUE=DATE:20250418
DTEND;VALUE=DATE:20250419
DTSTAMP:20260419T060121
CREATED:20241014T134838Z
LAST-MODIFIED:20241014T134838Z
UID:10001838-1744934400-1745020799@chilsonhills.org
SUMMARY:Good Friday Blood Drive
DESCRIPTION:
URL:https://chilsonhills.org/event/good-friday-blood-drive-3/
LOCATION:CHC Worship Center\, 4440 Brighton Rd.\, Howell\, MI\, 48843\, United States
CATEGORIES:Blood Drive
ATTACH;FMTTYPE=image/jpeg:https://chilsonhills.org/wp-content/uploads/2017/10/give-blood.jpg
GEO:42.525534;-83.8629275
X-APPLE-STRUCTURED-LOCATION;VALUE=URI;X-ADDRESS=CHC Worship Center 4440 Brighton Rd. Howell MI 48843 United States;X-APPLE-RADIUS=500;X-TITLE=4440 Brighton Rd.:geo:-83.8629275,42.525534
END:VEVENT
BEGIN:VEVENT
DTSTART;TZID=America/Detroit:20250420T100000
DTEND;TZID=America/Detroit:20250420T110000
DTSTAMP:20260419T060121
CREATED:20200617T025940Z
LAST-MODIFIED:20220730T235348Z
UID:10000916-1745143200-1745146800@chilsonhills.org
SUMMARY:Sunday Morning Worship
DESCRIPTION:You’re invited every week at 10:00am in-person and online\nLocation: Worship Center or Outdoor Garden (depending on weather)
URL:https://chilsonhills.org/event/worship-service-2/2025-04-20/
LOCATION:CHC Worship Center\, 4440 Brighton Rd.\, Howell\, MI\, 48843\, United States
CATEGORIES:Worship Service
ATTACH;FMTTYPE=image/jpeg:https://chilsonhills.org/wp-content/uploads/2020/07/20200705_101511.jpg
GEO:42.525534;-83.8629275
X-APPLE-STRUCTURED-LOCATION;VALUE=URI;X-ADDRESS=CHC Worship Center 4440 Brighton Rd. Howell MI 48843 United States;X-APPLE-RADIUS=500;X-TITLE=4440 Brighton Rd.:geo:-83.8629275,42.525534
END:VEVENT
BEGIN:VEVENT
DTSTART;TZID=America/Detroit:20250422T100000
DTEND;TZID=America/Detroit:20250422T110000
DTSTAMP:20260419T060121
CREATED:20240827T154308Z
LAST-MODIFIED:20240827T154309Z
UID:10001603-1745316000-1745319600@chilsonhills.org
SUMMARY:Creative Worship Team Meeting
DESCRIPTION:We are always welcoming new members to this team. Join us and collaborate in designing creative worship! This group meets on zoom or in-person. Contact Director of Worship\, Amber Wist for details.
URL:https://chilsonhills.org/event/creative-worship-team-meeting-2/2025-04-22/
LOCATION:Conference Room
CATEGORIES:Prayer,Worship Service
ATTACH;FMTTYPE=image/jpeg:https://chilsonhills.org/wp-content/uploads/2015/07/i-NpDXCKT-2602x1952.jpg
ORGANIZER;CN="Angela Miller":MAILTO:angela@chilsonhills.org
END:VEVENT
BEGIN:VEVENT
DTSTART;TZID=America/Detroit:20250424T080000
DTEND;TZID=America/Detroit:20250424T170000
DTSTAMP:20260419T060121
CREATED:20241119T165422Z
LAST-MODIFIED:20241119T165422Z
UID:10001839-1745481600-1745514000@chilsonhills.org
SUMMARY:Life Line Screening
DESCRIPTION:
URL:https://chilsonhills.org/event/life-line-screening-4/
LOCATION:CHC Worship Center\, 4440 Brighton Rd.\, Howell\, MI\, 48843\, United States
CATEGORIES:Building Rental,Community
ATTACH;FMTTYPE=image/jpeg:https://chilsonhills.org/wp-content/uploads/2015/07/BloodDrive.jpg
GEO:42.525534;-83.8629275
X-APPLE-STRUCTURED-LOCATION;VALUE=URI;X-ADDRESS=CHC Worship Center 4440 Brighton Rd. Howell MI 48843 United States;X-APPLE-RADIUS=500;X-TITLE=4440 Brighton Rd.:geo:-83.8629275,42.525534
END:VEVENT
BEGIN:VEVENT
DTSTART;TZID=America/Detroit:20250424T183000
DTEND;TZID=America/Detroit:20250424T200000
DTSTAMP:20260419T060121
CREATED:20250408T144525Z
LAST-MODIFIED:20250408T144559Z
UID:10001259-1745519400-1745524800@chilsonhills.org
SUMMARY:Executive Ministry Team
DESCRIPTION:
URL:https://chilsonhills.org/event/executive-ministry-team-3/
LOCATION:Conference Room
CATEGORIES:EMT
ATTACH;FMTTYPE=image/jpeg:https://chilsonhills.org/wp-content/uploads/2022/05/ministry-team.jpg
END:VEVENT
BEGIN:VEVENT
DTSTART;TZID=America/Detroit:20250427T100000
DTEND;TZID=America/Detroit:20250427T110000
DTSTAMP:20260419T060121
CREATED:20200617T025940Z
LAST-MODIFIED:20220730T235348Z
UID:10000917-1745748000-1745751600@chilsonhills.org
SUMMARY:Sunday Morning Worship
DESCRIPTION:You’re invited every week at 10:00am in-person and online\nLocation: Worship Center or Outdoor Garden (depending on weather)
URL:https://chilsonhills.org/event/worship-service-2/2025-04-27/
LOCATION:CHC Worship Center\, 4440 Brighton Rd.\, Howell\, MI\, 48843\, United States
CATEGORIES:Worship Service
ATTACH;FMTTYPE=image/jpeg:https://chilsonhills.org/wp-content/uploads/2020/07/20200705_101511.jpg
GEO:42.525534;-83.8629275
X-APPLE-STRUCTURED-LOCATION;VALUE=URI;X-ADDRESS=CHC Worship Center 4440 Brighton Rd. Howell MI 48843 United States;X-APPLE-RADIUS=500;X-TITLE=4440 Brighton Rd.:geo:-83.8629275,42.525534
END:VEVENT
BEGIN:VEVENT
DTSTART;TZID=America/Detroit:20250429T100000
DTEND;TZID=America/Detroit:20250429T110000
DTSTAMP:20260419T060121
CREATED:20240827T154308Z
LAST-MODIFIED:20240827T154309Z
UID:10001604-1745920800-1745924400@chilsonhills.org
SUMMARY:Creative Worship Team Meeting
DESCRIPTION:We are always welcoming new members to this team. Join us and collaborate in designing creative worship! This group meets on zoom or in-person. Contact Director of Worship\, Amber Wist for details.
URL:https://chilsonhills.org/event/creative-worship-team-meeting-2/2025-04-29/
LOCATION:Conference Room
CATEGORIES:Prayer,Worship Service
ATTACH;FMTTYPE=image/jpeg:https://chilsonhills.org/wp-content/uploads/2015/07/i-NpDXCKT-2602x1952.jpg
ORGANIZER;CN="Angela Miller":MAILTO:angela@chilsonhills.org
END:VEVENT
BEGIN:VEVENT
DTSTART;TZID=America/Detroit:20250503T103000
DTEND;TZID=America/Detroit:20250503T123000
DTSTAMP:20260419T060121
CREATED:20250428T141912Z
LAST-MODIFIED:20250428T141912Z
UID:10001881-1746268200-1746275400@chilsonhills.org
SUMMARY:Private Rental
DESCRIPTION:
URL:https://chilsonhills.org/event/private-rental-9/
LOCATION:CHC Worship Center\, 4440 Brighton Rd.\, Howell\, MI\, 48843\, United States
CATEGORIES:Building Rental
GEO:42.525534;-83.8629275
X-APPLE-STRUCTURED-LOCATION;VALUE=URI;X-ADDRESS=CHC Worship Center 4440 Brighton Rd. Howell MI 48843 United States;X-APPLE-RADIUS=500;X-TITLE=4440 Brighton Rd.:geo:-83.8629275,42.525534
END:VEVENT
BEGIN:VEVENT
DTSTART;TZID=America/Detroit:20250504T100000
DTEND;TZID=America/Detroit:20250504T110000
DTSTAMP:20260419T060121
CREATED:20200617T025940Z
LAST-MODIFIED:20220730T235348Z
UID:10000918-1746352800-1746356400@chilsonhills.org
SUMMARY:Sunday Morning Worship
DESCRIPTION:You’re invited every week at 10:00am in-person and online\nLocation: Worship Center or Outdoor Garden (depending on weather)
URL:https://chilsonhills.org/event/worship-service-2/2025-05-04/
LOCATION:CHC Worship Center\, 4440 Brighton Rd.\, Howell\, MI\, 48843\, United States
CATEGORIES:Worship Service
ATTACH;FMTTYPE=image/jpeg:https://chilsonhills.org/wp-content/uploads/2020/07/20200705_101511.jpg
GEO:42.525534;-83.8629275
X-APPLE-STRUCTURED-LOCATION;VALUE=URI;X-ADDRESS=CHC Worship Center 4440 Brighton Rd. Howell MI 48843 United States;X-APPLE-RADIUS=500;X-TITLE=4440 Brighton Rd.:geo:-83.8629275,42.525534
END:VEVENT
BEGIN:VEVENT
DTSTART;TZID=America/Detroit:20250504T113000
DTEND;TZID=America/Detroit:20250504T130000
DTSTAMP:20260419T060121
CREATED:20250428T150239Z
LAST-MODIFIED:20250428T150239Z
UID:10001885-1746358200-1746363600@chilsonhills.org
SUMMARY:50th Celebration Planning Meeting
DESCRIPTION:
URL:https://chilsonhills.org/event/50th-celebration-planning-meeting/
LOCATION:MI
CATEGORIES:Church Meetings
END:VEVENT
BEGIN:VEVENT
DTSTART;TZID=America/Detroit:20250506T100000
DTEND;TZID=America/Detroit:20250506T110000
DTSTAMP:20260419T060121
CREATED:20240827T154308Z
LAST-MODIFIED:20240827T154309Z
UID:10001605-1746525600-1746529200@chilsonhills.org
SUMMARY:Creative Worship Team Meeting
DESCRIPTION:We are always welcoming new members to this team. Join us and collaborate in designing creative worship! This group meets on zoom or in-person. Contact Director of Worship\, Amber Wist for details.
URL:https://chilsonhills.org/event/creative-worship-team-meeting-2/2025-05-06/
LOCATION:Conference Room
CATEGORIES:Prayer,Worship Service
ATTACH;FMTTYPE=image/jpeg:https://chilsonhills.org/wp-content/uploads/2015/07/i-NpDXCKT-2602x1952.jpg
ORGANIZER;CN="Angela Miller":MAILTO:angela@chilsonhills.org
END:VEVENT
END:VCALENDAR