BEGIN:VCALENDAR
VERSION:2.0
PRODID:-//Chilson Hills Church - ECPv6.15.20//NONSGML v1.0//EN
CALSCALE:GREGORIAN
METHOD:PUBLISH
X-ORIGINAL-URL:https://chilsonhills.org
X-WR-CALDESC:Events for Chilson Hills Church
REFRESH-INTERVAL;VALUE=DURATION:PT1H
X-Robots-Tag:noindex
X-PUBLISHED-TTL:PT1H
BEGIN:VTIMEZONE
TZID:America/Detroit
BEGIN:DAYLIGHT
TZOFFSETFROM:-0500
TZOFFSETTO:-0400
TZNAME:EDT
DTSTART:20240310T070000
END:DAYLIGHT
BEGIN:STANDARD
TZOFFSETFROM:-0400
TZOFFSETTO:-0500
TZNAME:EST
DTSTART:20241103T060000
END:STANDARD
BEGIN:DAYLIGHT
TZOFFSETFROM:-0500
TZOFFSETTO:-0400
TZNAME:EDT
DTSTART:20250309T070000
END:DAYLIGHT
BEGIN:STANDARD
TZOFFSETFROM:-0400
TZOFFSETTO:-0500
TZNAME:EST
DTSTART:20251102T060000
END:STANDARD
BEGIN:DAYLIGHT
TZOFFSETFROM:-0500
TZOFFSETTO:-0400
TZNAME:EDT
DTSTART:20260308T070000
END:DAYLIGHT
BEGIN:STANDARD
TZOFFSETFROM:-0400
TZOFFSETTO:-0500
TZNAME:EST
DTSTART:20261101T060000
END:STANDARD
END:VTIMEZONE
BEGIN:VEVENT
DTSTART;TZID=America/Detroit:20250803T100000
DTEND;TZID=America/Detroit:20250803T110000
DTSTAMP:20260417T215456
CREATED:20200617T025940Z
LAST-MODIFIED:20220730T235348Z
UID:10000931-1754215200-1754218800@chilsonhills.org
SUMMARY:Sunday Morning Worship
DESCRIPTION:You’re invited every week at 10:00am in-person and online\nLocation: Worship Center or Outdoor Garden (depending on weather)
URL:https://chilsonhills.org/event/worship-service-2/2025-08-03/
LOCATION:CHC Worship Center\, 4440 Brighton Rd.\, Howell\, MI\, 48843\, United States
CATEGORIES:Worship Service
ATTACH;FMTTYPE=image/jpeg:https://chilsonhills.org/wp-content/uploads/2020/07/20200705_101511.jpg
GEO:42.525534;-83.8629275
X-APPLE-STRUCTURED-LOCATION;VALUE=URI;X-ADDRESS=CHC Worship Center 4440 Brighton Rd. Howell MI 48843 United States;X-APPLE-RADIUS=500;X-TITLE=4440 Brighton Rd.:geo:-83.8629275,42.525534
END:VEVENT
BEGIN:VEVENT
DTSTART;VALUE=DATE:20250804
DTEND;VALUE=DATE:20250805
DTSTAMP:20260417T215456
CREATED:20250428T161134Z
LAST-MODIFIED:20250428T161134Z
UID:10001888-1754265600-1754351999@chilsonhills.org
SUMMARY:Election Day (Set-up)
DESCRIPTION:
URL:https://chilsonhills.org/event/election-day-set-up-6/
LOCATION:CHC Worship Center\, 4440 Brighton Rd.\, Howell\, MI\, 48843\, United States
CATEGORIES:Building Rental
GEO:42.525534;-83.8629275
X-APPLE-STRUCTURED-LOCATION;VALUE=URI;X-ADDRESS=CHC Worship Center 4440 Brighton Rd. Howell MI 48843 United States;X-APPLE-RADIUS=500;X-TITLE=4440 Brighton Rd.:geo:-83.8629275,42.525534
END:VEVENT
BEGIN:VEVENT
DTSTART;VALUE=DATE:20250805
DTEND;VALUE=DATE:20250806
DTSTAMP:20260417T215456
CREATED:20250428T161225Z
LAST-MODIFIED:20250428T161225Z
UID:10001889-1754352000-1754438399@chilsonhills.org
SUMMARY:Election Day
DESCRIPTION:
URL:https://chilsonhills.org/event/election-day-6/
LOCATION:CHC Worship Center\, 4440 Brighton Rd.\, Howell\, MI\, 48843\, United States
CATEGORIES:Building Rental
GEO:42.525534;-83.8629275
X-APPLE-STRUCTURED-LOCATION;VALUE=URI;X-ADDRESS=CHC Worship Center 4440 Brighton Rd. Howell MI 48843 United States;X-APPLE-RADIUS=500;X-TITLE=4440 Brighton Rd.:geo:-83.8629275,42.525534
END:VEVENT
BEGIN:VEVENT
DTSTART;TZID=America/Detroit:20250805T093000
DTEND;TZID=America/Detroit:20250805T110000
DTSTAMP:20260417T215456
CREATED:20250617T162116Z
LAST-MODIFIED:20250617T163606Z
UID:10001919-1754386200-1754391600@chilsonhills.org
SUMMARY:Creative Worship Team Meeting
DESCRIPTION:We are always welcoming new members to this team. Join us and collaborate in designing creative worship! This group meets on zoom or in-person. Contact Worship and Communications Adminstrator\, Chelsea Head for details.
URL:https://chilsonhills.org/event/creative-worship-team-meeting-2-2/2025-08-05/
LOCATION:Conference Room
CATEGORIES:Prayer,Worship Service
ATTACH;FMTTYPE=image/jpeg:https://chilsonhills.org/wp-content/uploads/2015/07/i-NpDXCKT-2602x1952.jpg
ORGANIZER;CN="Angela Miller":MAILTO:angela@chilsonhills.org
END:VEVENT
BEGIN:VEVENT
DTSTART;VALUE=DATE:20250806
DTEND;VALUE=DATE:20250807
DTSTAMP:20260417T215456
CREATED:20250428T161300Z
LAST-MODIFIED:20250428T161300Z
UID:10001890-1754438400-1754524799@chilsonhills.org
SUMMARY:Election (Tear Down)
DESCRIPTION:
URL:https://chilsonhills.org/event/election-tear-down-5/
LOCATION:CHC Worship Center\, 4440 Brighton Rd.\, Howell\, MI\, 48843\, United States
CATEGORIES:Building Rental,Property
GEO:42.525534;-83.8629275
X-APPLE-STRUCTURED-LOCATION;VALUE=URI;X-ADDRESS=CHC Worship Center 4440 Brighton Rd. Howell MI 48843 United States;X-APPLE-RADIUS=500;X-TITLE=4440 Brighton Rd.:geo:-83.8629275,42.525534
END:VEVENT
BEGIN:VEVENT
DTSTART;VALUE=DATE:20250808
DTEND;VALUE=DATE:20250809
DTSTAMP:20260417T215456
CREATED:20241014T134716Z
LAST-MODIFIED:20241014T134716Z
UID:10001837-1754611200-1754697599@chilsonhills.org
SUMMARY:Blood Drive
DESCRIPTION:
URL:https://chilsonhills.org/event/blood-drive-19/
LOCATION:CHC Worship Center\, 4440 Brighton Rd.\, Howell\, MI\, 48843\, United States
CATEGORIES:Blood Drive
ATTACH;FMTTYPE=image/jpeg:https://chilsonhills.org/wp-content/uploads/2017/10/give-blood.jpg
GEO:42.525534;-83.8629275
X-APPLE-STRUCTURED-LOCATION;VALUE=URI;X-ADDRESS=CHC Worship Center 4440 Brighton Rd. Howell MI 48843 United States;X-APPLE-RADIUS=500;X-TITLE=4440 Brighton Rd.:geo:-83.8629275,42.525534
END:VEVENT
BEGIN:VEVENT
DTSTART;TZID=America/Detroit:20250810T100000
DTEND;TZID=America/Detroit:20250810T110000
DTSTAMP:20260417T215456
CREATED:20200617T025940Z
LAST-MODIFIED:20220730T235348Z
UID:10000932-1754820000-1754823600@chilsonhills.org
SUMMARY:Sunday Morning Worship
DESCRIPTION:You’re invited every week at 10:00am in-person and online\nLocation: Worship Center or Outdoor Garden (depending on weather)
URL:https://chilsonhills.org/event/worship-service-2/2025-08-10/
LOCATION:CHC Worship Center\, 4440 Brighton Rd.\, Howell\, MI\, 48843\, United States
CATEGORIES:Worship Service
ATTACH;FMTTYPE=image/jpeg:https://chilsonhills.org/wp-content/uploads/2020/07/20200705_101511.jpg
GEO:42.525534;-83.8629275
X-APPLE-STRUCTURED-LOCATION;VALUE=URI;X-ADDRESS=CHC Worship Center 4440 Brighton Rd. Howell MI 48843 United States;X-APPLE-RADIUS=500;X-TITLE=4440 Brighton Rd.:geo:-83.8629275,42.525534
END:VEVENT
BEGIN:VEVENT
DTSTART;TZID=America/Detroit:20250812T093000
DTEND;TZID=America/Detroit:20250812T110000
DTSTAMP:20260417T215456
CREATED:20250617T162116Z
LAST-MODIFIED:20250617T163606Z
UID:10001920-1754991000-1754996400@chilsonhills.org
SUMMARY:Creative Worship Team Meeting
DESCRIPTION:We are always welcoming new members to this team. Join us and collaborate in designing creative worship! This group meets on zoom or in-person. Contact Worship and Communications Adminstrator\, Chelsea Head for details.
URL:https://chilsonhills.org/event/creative-worship-team-meeting-2-2/2025-08-12/
LOCATION:Conference Room
CATEGORIES:Prayer,Worship Service
ATTACH;FMTTYPE=image/jpeg:https://chilsonhills.org/wp-content/uploads/2015/07/i-NpDXCKT-2602x1952.jpg
ORGANIZER;CN="Angela Miller":MAILTO:angela@chilsonhills.org
END:VEVENT
BEGIN:VEVENT
DTSTART;TZID=America/Detroit:20250813T170000
DTEND;TZID=America/Detroit:20250813T180000
DTSTAMP:20260417T215456
CREATED:20250617T160923Z
LAST-MODIFIED:20250617T161130Z
UID:10001913-1755104400-1755108000@chilsonhills.org
SUMMARY:No Property Management Team Meeting
DESCRIPTION:
URL:https://chilsonhills.org/event/property-management-team-meeting-3/
LOCATION:Conference Room
CATEGORIES:Property
ATTACH;FMTTYPE=image/jpeg:https://chilsonhills.org/wp-content/uploads/2012/07/chilson_front1.jpg
ORGANIZER;CN="Greg Kidd":MAILTO:greg@chilsonhills.org
END:VEVENT
BEGIN:VEVENT
DTSTART;TZID=America/Detroit:20250816T110000
DTEND;TZID=America/Detroit:20250816T150000
DTSTAMP:20260417T215456
CREATED:20250812T163511Z
LAST-MODIFIED:20250812T163511Z
UID:10002178-1755342000-1755356400@chilsonhills.org
SUMMARY:Memorial Service for Frank Renko
DESCRIPTION:
URL:https://chilsonhills.org/event/memorial-service-for-frank-renko/
LOCATION:CHC Worship Center\, 4440 Brighton Rd.\, Howell\, MI\, 48843\, United States
CATEGORIES:Memorial/Funeral Service
GEO:42.525534;-83.8629275
X-APPLE-STRUCTURED-LOCATION;VALUE=URI;X-ADDRESS=CHC Worship Center 4440 Brighton Rd. Howell MI 48843 United States;X-APPLE-RADIUS=500;X-TITLE=4440 Brighton Rd.:geo:-83.8629275,42.525534
END:VEVENT
BEGIN:VEVENT
DTSTART;TZID=America/Detroit:20250817T100000
DTEND;TZID=America/Detroit:20250817T110000
DTSTAMP:20260417T215456
CREATED:20200617T025940Z
LAST-MODIFIED:20220730T235348Z
UID:10000933-1755424800-1755428400@chilsonhills.org
SUMMARY:Sunday Morning Worship
DESCRIPTION:You’re invited every week at 10:00am in-person and online\nLocation: Worship Center or Outdoor Garden (depending on weather)
URL:https://chilsonhills.org/event/worship-service-2/2025-08-17/
LOCATION:CHC Worship Center\, 4440 Brighton Rd.\, Howell\, MI\, 48843\, United States
CATEGORIES:Worship Service
ATTACH;FMTTYPE=image/jpeg:https://chilsonhills.org/wp-content/uploads/2020/07/20200705_101511.jpg
GEO:42.525534;-83.8629275
X-APPLE-STRUCTURED-LOCATION;VALUE=URI;X-ADDRESS=CHC Worship Center 4440 Brighton Rd. Howell MI 48843 United States;X-APPLE-RADIUS=500;X-TITLE=4440 Brighton Rd.:geo:-83.8629275,42.525534
END:VEVENT
BEGIN:VEVENT
DTSTART;TZID=America/Detroit:20250819T093000
DTEND;TZID=America/Detroit:20250819T110000
DTSTAMP:20260417T215456
CREATED:20250617T162116Z
LAST-MODIFIED:20250617T163606Z
UID:10001921-1755595800-1755601200@chilsonhills.org
SUMMARY:Creative Worship Team Meeting
DESCRIPTION:We are always welcoming new members to this team. Join us and collaborate in designing creative worship! This group meets on zoom or in-person. Contact Worship and Communications Adminstrator\, Chelsea Head for details.
URL:https://chilsonhills.org/event/creative-worship-team-meeting-2-2/2025-08-19/
LOCATION:Conference Room
CATEGORIES:Prayer,Worship Service
ATTACH;FMTTYPE=image/jpeg:https://chilsonhills.org/wp-content/uploads/2015/07/i-NpDXCKT-2602x1952.jpg
ORGANIZER;CN="Angela Miller":MAILTO:angela@chilsonhills.org
END:VEVENT
BEGIN:VEVENT
DTSTART;TZID=America/Detroit:20250821T183000
DTEND;TZID=America/Detroit:20250821T200000
DTSTAMP:20260417T215456
CREATED:20231207T165551Z
LAST-MODIFIED:20231207T170555Z
UID:10001263-1755801000-1755806400@chilsonhills.org
SUMMARY:Executive Ministry Team
DESCRIPTION:
URL:https://chilsonhills.org/event/executive-ministry-team-2/2025-08-21/
LOCATION:Conference Room
CATEGORIES:EMT
ATTACH;FMTTYPE=image/jpeg:https://chilsonhills.org/wp-content/uploads/2022/05/ministry-team.jpg
END:VEVENT
BEGIN:VEVENT
DTSTART;TZID=America/Detroit:20250824T100000
DTEND;TZID=America/Detroit:20250824T110000
DTSTAMP:20260417T215456
CREATED:20200617T025940Z
LAST-MODIFIED:20220730T235348Z
UID:10000934-1756029600-1756033200@chilsonhills.org
SUMMARY:Sunday Morning Worship
DESCRIPTION:You’re invited every week at 10:00am in-person and online\nLocation: Worship Center or Outdoor Garden (depending on weather)
URL:https://chilsonhills.org/event/worship-service-2/2025-08-24/
LOCATION:CHC Worship Center\, 4440 Brighton Rd.\, Howell\, MI\, 48843\, United States
CATEGORIES:Worship Service
ATTACH;FMTTYPE=image/jpeg:https://chilsonhills.org/wp-content/uploads/2020/07/20200705_101511.jpg
GEO:42.525534;-83.8629275
X-APPLE-STRUCTURED-LOCATION;VALUE=URI;X-ADDRESS=CHC Worship Center 4440 Brighton Rd. Howell MI 48843 United States;X-APPLE-RADIUS=500;X-TITLE=4440 Brighton Rd.:geo:-83.8629275,42.525534
END:VEVENT
BEGIN:VEVENT
DTSTART;TZID=America/Detroit:20250824T100000
DTEND;TZID=America/Detroit:20250824T110000
DTSTAMP:20260417T215456
CREATED:20250617T171753Z
LAST-MODIFIED:20250619T233019Z
UID:10002173-1756029600-1756033200@chilsonhills.org
SUMMARY:Creation Sunday Worship
DESCRIPTION:Join us as we celebrate all of God’s creations. Bring your “social\, friendly” pets or photos of your beloved pets to be blessed during the worship service.
URL:https://chilsonhills.org/event/creation-sunday-worship/
LOCATION:CHC Memorial Garden\, 4440 Brighton Road\, Howell\, MI\, 48843\, United States
END:VEVENT
BEGIN:VEVENT
DTSTART;TZID=America/Detroit:20250826T093000
DTEND;TZID=America/Detroit:20250826T110000
DTSTAMP:20260417T215456
CREATED:20250617T162116Z
LAST-MODIFIED:20250617T163606Z
UID:10001922-1756200600-1756206000@chilsonhills.org
SUMMARY:Creative Worship Team Meeting
DESCRIPTION:We are always welcoming new members to this team. Join us and collaborate in designing creative worship! This group meets on zoom or in-person. Contact Worship and Communications Adminstrator\, Chelsea Head for details.
URL:https://chilsonhills.org/event/creative-worship-team-meeting-2-2/2025-08-26/
LOCATION:Conference Room
CATEGORIES:Prayer,Worship Service
ATTACH;FMTTYPE=image/jpeg:https://chilsonhills.org/wp-content/uploads/2015/07/i-NpDXCKT-2602x1952.jpg
ORGANIZER;CN="Angela Miller":MAILTO:angela@chilsonhills.org
END:VEVENT
END:VCALENDAR