BEGIN:VCALENDAR
VERSION:2.0
PRODID:-//Chilson Hills Church - ECPv6.15.20//NONSGML v1.0//EN
CALSCALE:GREGORIAN
METHOD:PUBLISH
X-WR-CALNAME:Chilson Hills Church
X-ORIGINAL-URL:https://chilsonhills.org
X-WR-CALDESC:Events for Chilson Hills Church
REFRESH-INTERVAL;VALUE=DURATION:PT1H
X-Robots-Tag:noindex
X-PUBLISHED-TTL:PT1H
BEGIN:VTIMEZONE
TZID:America/Detroit
BEGIN:DAYLIGHT
TZOFFSETFROM:-0500
TZOFFSETTO:-0400
TZNAME:EDT
DTSTART:20240310T070000
END:DAYLIGHT
BEGIN:STANDARD
TZOFFSETFROM:-0400
TZOFFSETTO:-0500
TZNAME:EST
DTSTART:20241103T060000
END:STANDARD
BEGIN:DAYLIGHT
TZOFFSETFROM:-0500
TZOFFSETTO:-0400
TZNAME:EDT
DTSTART:20250309T070000
END:DAYLIGHT
BEGIN:STANDARD
TZOFFSETFROM:-0400
TZOFFSETTO:-0500
TZNAME:EST
DTSTART:20251102T060000
END:STANDARD
BEGIN:DAYLIGHT
TZOFFSETFROM:-0500
TZOFFSETTO:-0400
TZNAME:EDT
DTSTART:20260308T070000
END:DAYLIGHT
BEGIN:STANDARD
TZOFFSETFROM:-0400
TZOFFSETTO:-0500
TZNAME:EST
DTSTART:20261101T060000
END:STANDARD
END:VTIMEZONE
BEGIN:VEVENT
DTSTART;TZID=America/Detroit:20251201T100000
DTEND;TZID=America/Detroit:20251201T120000
DTSTAMP:20260417T153329
CREATED:20251126T180904Z
LAST-MODIFIED:20260414T190431Z
UID:10002277-1764583200-1764590400@chilsonhills.org
SUMMARY:Exercise Class
DESCRIPTION:Join us for fun and inclusive exercise classes! \nClasses are on Mondays and Wednesdays at 10 am for advanced\, 11 am beginner’s\, and Friday’s at 10 am. Classes are 50-60 minutes long. \nClasses are $3 per session. Classes include the use of free weights\, rubber balls\, chair seat risers\, stretch bands\, and great music! Come dressed in loose clothing\, rubber soled shoes\, and don’t forget that water bottle!
URL:https://chilsonhills.org/event/chilson-hills-exercise-class/2025-12-01/
LOCATION:CHC Worship Center\, 4440 Brighton Rd.\, Howell\, MI\, 48843\, United States
CATEGORIES:Exercise
GEO:42.525534;-83.8629275
X-APPLE-STRUCTURED-LOCATION;VALUE=URI;X-ADDRESS=CHC Worship Center 4440 Brighton Rd. Howell MI 48843 United States;X-APPLE-RADIUS=500;X-TITLE=4440 Brighton Rd.:geo:-83.8629275,42.525534
END:VEVENT
BEGIN:VEVENT
DTSTART;TZID=America/Detroit:20251202T093000
DTEND;TZID=America/Detroit:20251202T110000
DTSTAMP:20260417T153329
CREATED:20250617T162116Z
LAST-MODIFIED:20250617T163606Z
UID:10001936-1764667800-1764673200@chilsonhills.org
SUMMARY:Creative Worship Team Meeting
DESCRIPTION:We are always welcoming new members to this team. Join us and collaborate in designing creative worship! This group meets on zoom or in-person. Contact Worship and Communications Adminstrator\, Chelsea Head for details.
URL:https://chilsonhills.org/event/creative-worship-team-meeting-2-2/2025-12-02/
LOCATION:Conference Room
CATEGORIES:Prayer,Worship Service
ATTACH;FMTTYPE=image/jpeg:https://chilsonhills.org/wp-content/uploads/2015/07/i-NpDXCKT-2602x1952.jpg
ORGANIZER;CN="Angela Miller":MAILTO:angela@chilsonhills.org
END:VEVENT
BEGIN:VEVENT
DTSTART;TZID=America/Detroit:20251203T100000
DTEND;TZID=America/Detroit:20251203T120000
DTSTAMP:20260417T153329
CREATED:20251126T180904Z
LAST-MODIFIED:20260414T190431Z
UID:10002278-1764756000-1764763200@chilsonhills.org
SUMMARY:Exercise Class
DESCRIPTION:Join us for fun and inclusive exercise classes! \nClasses are on Mondays and Wednesdays at 10 am for advanced\, 11 am beginner’s\, and Friday’s at 10 am. Classes are 50-60 minutes long. \nClasses are $3 per session. Classes include the use of free weights\, rubber balls\, chair seat risers\, stretch bands\, and great music! Come dressed in loose clothing\, rubber soled shoes\, and don’t forget that water bottle!
URL:https://chilsonhills.org/event/chilson-hills-exercise-class/2025-12-03/
LOCATION:CHC Worship Center\, 4440 Brighton Rd.\, Howell\, MI\, 48843\, United States
CATEGORIES:Exercise
GEO:42.525534;-83.8629275
X-APPLE-STRUCTURED-LOCATION;VALUE=URI;X-ADDRESS=CHC Worship Center 4440 Brighton Rd. Howell MI 48843 United States;X-APPLE-RADIUS=500;X-TITLE=4440 Brighton Rd.:geo:-83.8629275,42.525534
END:VEVENT
BEGIN:VEVENT
DTSTART;TZID=America/Detroit:20251203T183000
DTEND;TZID=America/Detroit:20251203T193000
DTSTAMP:20260417T153329
CREATED:20251028T200717Z
LAST-MODIFIED:20251028T200717Z
UID:10002214-1764786600-1764790200@chilsonhills.org
SUMMARY:Advent Choir Rehearsals
DESCRIPTION:
URL:https://chilsonhills.org/event/advent-choir-rehearsals/2025-12-03/
LOCATION:CHC Worship Center\, 4440 Brighton Rd.\, Howell\, MI\, 48843\, United States
CATEGORIES:Christmas,Music/Choir Rehearsal
GEO:42.525534;-83.8629275
X-APPLE-STRUCTURED-LOCATION;VALUE=URI;X-ADDRESS=CHC Worship Center 4440 Brighton Rd. Howell MI 48843 United States;X-APPLE-RADIUS=500;X-TITLE=4440 Brighton Rd.:geo:-83.8629275,42.525534
END:VEVENT
BEGIN:VEVENT
DTSTART;TZID=America/Detroit:20251205T100000
DTEND;TZID=America/Detroit:20251205T120000
DTSTAMP:20260417T153329
CREATED:20251126T180904Z
LAST-MODIFIED:20260414T190431Z
UID:10002279-1764928800-1764936000@chilsonhills.org
SUMMARY:Exercise Class
DESCRIPTION:Join us for fun and inclusive exercise classes! \nClasses are on Mondays and Wednesdays at 10 am for advanced\, 11 am beginner’s\, and Friday’s at 10 am. Classes are 50-60 minutes long. \nClasses are $3 per session. Classes include the use of free weights\, rubber balls\, chair seat risers\, stretch bands\, and great music! Come dressed in loose clothing\, rubber soled shoes\, and don’t forget that water bottle!
URL:https://chilsonhills.org/event/chilson-hills-exercise-class/2025-12-05/
LOCATION:CHC Worship Center\, 4440 Brighton Rd.\, Howell\, MI\, 48843\, United States
CATEGORIES:Exercise
GEO:42.525534;-83.8629275
X-APPLE-STRUCTURED-LOCATION;VALUE=URI;X-ADDRESS=CHC Worship Center 4440 Brighton Rd. Howell MI 48843 United States;X-APPLE-RADIUS=500;X-TITLE=4440 Brighton Rd.:geo:-83.8629275,42.525534
END:VEVENT
BEGIN:VEVENT
DTSTART;TZID=America/Detroit:20251205T110000
DTEND;TZID=America/Detroit:20251205T170000
DTSTAMP:20260417T153329
CREATED:20250702T164258Z
LAST-MODIFIED:20250902T143709Z
UID:10002176-1764932400-1764954000@chilsonhills.org
SUMMARY:Blood Drive
DESCRIPTION:
URL:https://chilsonhills.org/event/blood-drive-20/
LOCATION:CHC Worship Center\, 4440 Brighton Rd.\, Howell\, MI\, 48843\, United States
CATEGORIES:Blood Drive
ATTACH;FMTTYPE=image/jpeg:https://chilsonhills.org/wp-content/uploads/2017/10/give-blood.jpg
GEO:42.525534;-83.8629275
X-APPLE-STRUCTURED-LOCATION;VALUE=URI;X-ADDRESS=CHC Worship Center 4440 Brighton Rd. Howell MI 48843 United States;X-APPLE-RADIUS=500;X-TITLE=4440 Brighton Rd.:geo:-83.8629275,42.525534
END:VEVENT
BEGIN:VEVENT
DTSTART;TZID=America/Detroit:20251207T111500
DTEND;TZID=America/Detroit:20251207T123000
DTSTAMP:20260417T153329
CREATED:20251029T141842Z
LAST-MODIFIED:20251029T141842Z
UID:10002221-1765106100-1765110600@chilsonhills.org
SUMMARY:Advent Bell Choir Rehearsals
DESCRIPTION:Come join our handbell choir! We will start rehearsals following worship\, Sunday\, November 9th\, to prepare a song for December 7th and for the Christmas Eve service. All abilities are welcome\, come make a joyful noise with us! \nContact Amber Wist if you have any questions.
URL:https://chilsonhills.org/event/advent-bell-choir-rehearsals/2025-12-07/
LOCATION:MI
END:VEVENT
BEGIN:VEVENT
DTSTART;TZID=America/Detroit:20251208T100000
DTEND;TZID=America/Detroit:20251208T120000
DTSTAMP:20260417T153329
CREATED:20251126T180904Z
LAST-MODIFIED:20260414T190431Z
UID:10002280-1765188000-1765195200@chilsonhills.org
SUMMARY:Exercise Class
DESCRIPTION:Join us for fun and inclusive exercise classes! \nClasses are on Mondays and Wednesdays at 10 am for advanced\, 11 am beginner’s\, and Friday’s at 10 am. Classes are 50-60 minutes long. \nClasses are $3 per session. Classes include the use of free weights\, rubber balls\, chair seat risers\, stretch bands\, and great music! Come dressed in loose clothing\, rubber soled shoes\, and don’t forget that water bottle!
URL:https://chilsonhills.org/event/chilson-hills-exercise-class/2025-12-08/
LOCATION:CHC Worship Center\, 4440 Brighton Rd.\, Howell\, MI\, 48843\, United States
CATEGORIES:Exercise
GEO:42.525534;-83.8629275
X-APPLE-STRUCTURED-LOCATION;VALUE=URI;X-ADDRESS=CHC Worship Center 4440 Brighton Rd. Howell MI 48843 United States;X-APPLE-RADIUS=500;X-TITLE=4440 Brighton Rd.:geo:-83.8629275,42.525534
END:VEVENT
BEGIN:VEVENT
DTSTART;TZID=America/Detroit:20251209T093000
DTEND;TZID=America/Detroit:20251209T110000
DTSTAMP:20260417T153329
CREATED:20250617T162116Z
LAST-MODIFIED:20250617T163606Z
UID:10001937-1765272600-1765278000@chilsonhills.org
SUMMARY:Creative Worship Team Meeting
DESCRIPTION:We are always welcoming new members to this team. Join us and collaborate in designing creative worship! This group meets on zoom or in-person. Contact Worship and Communications Adminstrator\, Chelsea Head for details.
URL:https://chilsonhills.org/event/creative-worship-team-meeting-2-2/2025-12-09/
LOCATION:Conference Room
CATEGORIES:Prayer,Worship Service
ATTACH;FMTTYPE=image/jpeg:https://chilsonhills.org/wp-content/uploads/2015/07/i-NpDXCKT-2602x1952.jpg
ORGANIZER;CN="Angela Miller":MAILTO:angela@chilsonhills.org
END:VEVENT
BEGIN:VEVENT
DTSTART;TZID=America/Detroit:20251210T100000
DTEND;TZID=America/Detroit:20251210T120000
DTSTAMP:20260417T153329
CREATED:20251126T180904Z
LAST-MODIFIED:20260414T190431Z
UID:10002281-1765360800-1765368000@chilsonhills.org
SUMMARY:Exercise Class
DESCRIPTION:Join us for fun and inclusive exercise classes! \nClasses are on Mondays and Wednesdays at 10 am for advanced\, 11 am beginner’s\, and Friday’s at 10 am. Classes are 50-60 minutes long. \nClasses are $3 per session. Classes include the use of free weights\, rubber balls\, chair seat risers\, stretch bands\, and great music! Come dressed in loose clothing\, rubber soled shoes\, and don’t forget that water bottle!
URL:https://chilsonhills.org/event/chilson-hills-exercise-class/2025-12-10/
LOCATION:CHC Worship Center\, 4440 Brighton Rd.\, Howell\, MI\, 48843\, United States
CATEGORIES:Exercise
GEO:42.525534;-83.8629275
X-APPLE-STRUCTURED-LOCATION;VALUE=URI;X-ADDRESS=CHC Worship Center 4440 Brighton Rd. Howell MI 48843 United States;X-APPLE-RADIUS=500;X-TITLE=4440 Brighton Rd.:geo:-83.8629275,42.525534
END:VEVENT
BEGIN:VEVENT
DTSTART;TZID=America/Detroit:20251210T170000
DTEND;TZID=America/Detroit:20251210T180000
DTSTAMP:20260417T153329
CREATED:20240506T131440Z
LAST-MODIFIED:20240506T131441Z
UID:10001514-1765386000-1765389600@chilsonhills.org
SUMMARY:Property Management Team Meeting
DESCRIPTION:
URL:https://chilsonhills.org/event/property-management-team-meeting-2-2/2025-12-10/
LOCATION:Conference Room
CATEGORIES:Property
ATTACH;FMTTYPE=image/jpeg:https://chilsonhills.org/wp-content/uploads/2012/07/chilson_front1.jpg
ORGANIZER;CN="Greg Kidd":MAILTO:greg@chilsonhills.org
END:VEVENT
BEGIN:VEVENT
DTSTART;TZID=America/Detroit:20251210T183000
DTEND;TZID=America/Detroit:20251210T193000
DTSTAMP:20260417T153329
CREATED:20251028T200717Z
LAST-MODIFIED:20251028T200717Z
UID:10002215-1765391400-1765395000@chilsonhills.org
SUMMARY:Advent Choir Rehearsals
DESCRIPTION:
URL:https://chilsonhills.org/event/advent-choir-rehearsals/2025-12-10/
LOCATION:CHC Worship Center\, 4440 Brighton Rd.\, Howell\, MI\, 48843\, United States
CATEGORIES:Christmas,Music/Choir Rehearsal
GEO:42.525534;-83.8629275
X-APPLE-STRUCTURED-LOCATION;VALUE=URI;X-ADDRESS=CHC Worship Center 4440 Brighton Rd. Howell MI 48843 United States;X-APPLE-RADIUS=500;X-TITLE=4440 Brighton Rd.:geo:-83.8629275,42.525534
END:VEVENT
BEGIN:VEVENT
DTSTART;TZID=America/Detroit:20251212T100000
DTEND;TZID=America/Detroit:20251212T120000
DTSTAMP:20260417T153329
CREATED:20251126T180904Z
LAST-MODIFIED:20260414T190431Z
UID:10002282-1765533600-1765540800@chilsonhills.org
SUMMARY:Exercise Class
DESCRIPTION:Join us for fun and inclusive exercise classes! \nClasses are on Mondays and Wednesdays at 10 am for advanced\, 11 am beginner’s\, and Friday’s at 10 am. Classes are 50-60 minutes long. \nClasses are $3 per session. Classes include the use of free weights\, rubber balls\, chair seat risers\, stretch bands\, and great music! Come dressed in loose clothing\, rubber soled shoes\, and don’t forget that water bottle!
URL:https://chilsonhills.org/event/chilson-hills-exercise-class/2025-12-12/
LOCATION:CHC Worship Center\, 4440 Brighton Rd.\, Howell\, MI\, 48843\, United States
CATEGORIES:Exercise
GEO:42.525534;-83.8629275
X-APPLE-STRUCTURED-LOCATION;VALUE=URI;X-ADDRESS=CHC Worship Center 4440 Brighton Rd. Howell MI 48843 United States;X-APPLE-RADIUS=500;X-TITLE=4440 Brighton Rd.:geo:-83.8629275,42.525534
END:VEVENT
BEGIN:VEVENT
DTSTART;TZID=America/Detroit:20251212T183000
DTEND;TZID=America/Detroit:20251212T200000
DTSTAMP:20260417T153329
CREATED:20251028T200011Z
LAST-MODIFIED:20251028T200045Z
UID:10002194-1765564200-1765569600@chilsonhills.org
SUMMARY:Euchre Nights
DESCRIPTION:
URL:https://chilsonhills.org/event/euchre-nights/2025-12-12/
LOCATION:CHC Worship Center\, 4440 Brighton Rd.\, Howell\, MI\, 48843\, United States
CATEGORIES:Community,Euchre Night
GEO:42.525534;-83.8629275
X-APPLE-STRUCTURED-LOCATION;VALUE=URI;X-ADDRESS=CHC Worship Center 4440 Brighton Rd. Howell MI 48843 United States;X-APPLE-RADIUS=500;X-TITLE=4440 Brighton Rd.:geo:-83.8629275,42.525534
END:VEVENT
BEGIN:VEVENT
DTSTART;TZID=America/Detroit:20251213T170000
DTEND;TZID=America/Detroit:20251213T200000
DTSTAMP:20260417T153329
CREATED:20250428T162524Z
LAST-MODIFIED:20250428T162524Z
UID:10001894-1765645200-1765656000@chilsonhills.org
SUMMARY:Private Rental
DESCRIPTION:ARC Christmas Party
URL:https://chilsonhills.org/event/private-rental-12/
LOCATION:MI
CATEGORIES:Community
END:VEVENT
BEGIN:VEVENT
DTSTART;TZID=America/Detroit:20251214T111500
DTEND;TZID=America/Detroit:20251214T123000
DTSTAMP:20260417T153329
CREATED:20251029T141842Z
LAST-MODIFIED:20251029T141842Z
UID:10002222-1765710900-1765715400@chilsonhills.org
SUMMARY:Advent Bell Choir Rehearsals
DESCRIPTION:Come join our handbell choir! We will start rehearsals following worship\, Sunday\, November 9th\, to prepare a song for December 7th and for the Christmas Eve service. All abilities are welcome\, come make a joyful noise with us! \nContact Amber Wist if you have any questions.
URL:https://chilsonhills.org/event/advent-bell-choir-rehearsals/2025-12-14/
LOCATION:MI
END:VEVENT
BEGIN:VEVENT
DTSTART;TZID=America/Detroit:20251215T100000
DTEND;TZID=America/Detroit:20251215T120000
DTSTAMP:20260417T153329
CREATED:20251126T180904Z
LAST-MODIFIED:20260414T190431Z
UID:10002283-1765792800-1765800000@chilsonhills.org
SUMMARY:Exercise Class
DESCRIPTION:Join us for fun and inclusive exercise classes! \nClasses are on Mondays and Wednesdays at 10 am for advanced\, 11 am beginner’s\, and Friday’s at 10 am. Classes are 50-60 minutes long. \nClasses are $3 per session. Classes include the use of free weights\, rubber balls\, chair seat risers\, stretch bands\, and great music! Come dressed in loose clothing\, rubber soled shoes\, and don’t forget that water bottle!
URL:https://chilsonhills.org/event/chilson-hills-exercise-class/2025-12-15/
LOCATION:CHC Worship Center\, 4440 Brighton Rd.\, Howell\, MI\, 48843\, United States
CATEGORIES:Exercise
GEO:42.525534;-83.8629275
X-APPLE-STRUCTURED-LOCATION;VALUE=URI;X-ADDRESS=CHC Worship Center 4440 Brighton Rd. Howell MI 48843 United States;X-APPLE-RADIUS=500;X-TITLE=4440 Brighton Rd.:geo:-83.8629275,42.525534
END:VEVENT
BEGIN:VEVENT
DTSTART;TZID=America/Detroit:20251216T093000
DTEND;TZID=America/Detroit:20251216T110000
DTSTAMP:20260417T153329
CREATED:20250617T162116Z
LAST-MODIFIED:20250617T163606Z
UID:10001938-1765877400-1765882800@chilsonhills.org
SUMMARY:Creative Worship Team Meeting
DESCRIPTION:We are always welcoming new members to this team. Join us and collaborate in designing creative worship! This group meets on zoom or in-person. Contact Worship and Communications Adminstrator\, Chelsea Head for details.
URL:https://chilsonhills.org/event/creative-worship-team-meeting-2-2/2025-12-16/
LOCATION:Conference Room
CATEGORIES:Prayer,Worship Service
ATTACH;FMTTYPE=image/jpeg:https://chilsonhills.org/wp-content/uploads/2015/07/i-NpDXCKT-2602x1952.jpg
ORGANIZER;CN="Angela Miller":MAILTO:angela@chilsonhills.org
END:VEVENT
BEGIN:VEVENT
DTSTART;TZID=America/Detroit:20251216T190000
DTEND;TZID=America/Detroit:20251216T200000
DTSTAMP:20260417T153329
CREATED:20251126T175710Z
LAST-MODIFIED:20251126T175710Z
UID:10002276-1765911600-1765915200@chilsonhills.org
SUMMARY:Blue Christmas
DESCRIPTION:All are welcome to join Chilson Hills on Tuesday\, December 16th\, at 7pm for our Blue Christmas Service. \nOn the Longest Night\, Scott Runyon will be leading a peaceful and reflective service meant to comfort those who may be struggling in this Holiday and Winter season.
URL:https://chilsonhills.org/event/blue-christmas/
LOCATION:CHC Worship Center\, 4440 Brighton Rd.\, Howell\, MI\, 48843\, United States
CATEGORIES:Christmas,Worship Service
ATTACH;FMTTYPE=image/jpeg:https://chilsonhills.org/wp-content/uploads/2025/11/A_Blue_Christmas_Service.jpg
GEO:42.525534;-83.8629275
X-APPLE-STRUCTURED-LOCATION;VALUE=URI;X-ADDRESS=CHC Worship Center 4440 Brighton Rd. Howell MI 48843 United States;X-APPLE-RADIUS=500;X-TITLE=4440 Brighton Rd.:geo:-83.8629275,42.525534
END:VEVENT
BEGIN:VEVENT
DTSTART;TZID=America/Detroit:20251217T100000
DTEND;TZID=America/Detroit:20251217T120000
DTSTAMP:20260417T153329
CREATED:20251126T180904Z
LAST-MODIFIED:20260414T190431Z
UID:10002284-1765965600-1765972800@chilsonhills.org
SUMMARY:Exercise Class
DESCRIPTION:Join us for fun and inclusive exercise classes! \nClasses are on Mondays and Wednesdays at 10 am for advanced\, 11 am beginner’s\, and Friday’s at 10 am. Classes are 50-60 minutes long. \nClasses are $3 per session. Classes include the use of free weights\, rubber balls\, chair seat risers\, stretch bands\, and great music! Come dressed in loose clothing\, rubber soled shoes\, and don’t forget that water bottle!
URL:https://chilsonhills.org/event/chilson-hills-exercise-class/2025-12-17/
LOCATION:CHC Worship Center\, 4440 Brighton Rd.\, Howell\, MI\, 48843\, United States
CATEGORIES:Exercise
GEO:42.525534;-83.8629275
X-APPLE-STRUCTURED-LOCATION;VALUE=URI;X-ADDRESS=CHC Worship Center 4440 Brighton Rd. Howell MI 48843 United States;X-APPLE-RADIUS=500;X-TITLE=4440 Brighton Rd.:geo:-83.8629275,42.525534
END:VEVENT
BEGIN:VEVENT
DTSTART;TZID=America/Detroit:20251217T183000
DTEND;TZID=America/Detroit:20251217T193000
DTSTAMP:20260417T153329
CREATED:20251028T200717Z
LAST-MODIFIED:20251028T200717Z
UID:10002216-1765996200-1765999800@chilsonhills.org
SUMMARY:Advent Choir Rehearsals
DESCRIPTION:
URL:https://chilsonhills.org/event/advent-choir-rehearsals/2025-12-17/
LOCATION:CHC Worship Center\, 4440 Brighton Rd.\, Howell\, MI\, 48843\, United States
CATEGORIES:Christmas,Music/Choir Rehearsal
GEO:42.525534;-83.8629275
X-APPLE-STRUCTURED-LOCATION;VALUE=URI;X-ADDRESS=CHC Worship Center 4440 Brighton Rd. Howell MI 48843 United States;X-APPLE-RADIUS=500;X-TITLE=4440 Brighton Rd.:geo:-83.8629275,42.525534
END:VEVENT
BEGIN:VEVENT
DTSTART;TZID=America/Detroit:20251218T183000
DTEND;TZID=America/Detroit:20251218T200000
DTSTAMP:20260417T153329
CREATED:20231207T165551Z
LAST-MODIFIED:20231207T170555Z
UID:10001347-1766082600-1766088000@chilsonhills.org
SUMMARY:Executive Ministry Team
DESCRIPTION:
URL:https://chilsonhills.org/event/executive-ministry-team-2/2025-12-18/
LOCATION:Conference Room
CATEGORIES:EMT
ATTACH;FMTTYPE=image/jpeg:https://chilsonhills.org/wp-content/uploads/2022/05/ministry-team.jpg
END:VEVENT
BEGIN:VEVENT
DTSTART;TZID=America/Detroit:20251219T100000
DTEND;TZID=America/Detroit:20251219T120000
DTSTAMP:20260417T153329
CREATED:20251126T180904Z
LAST-MODIFIED:20260414T190431Z
UID:10002285-1766138400-1766145600@chilsonhills.org
SUMMARY:Exercise Class
DESCRIPTION:Join us for fun and inclusive exercise classes! \nClasses are on Mondays and Wednesdays at 10 am for advanced\, 11 am beginner’s\, and Friday’s at 10 am. Classes are 50-60 minutes long. \nClasses are $3 per session. Classes include the use of free weights\, rubber balls\, chair seat risers\, stretch bands\, and great music! Come dressed in loose clothing\, rubber soled shoes\, and don’t forget that water bottle!
URL:https://chilsonhills.org/event/chilson-hills-exercise-class/2025-12-19/
LOCATION:CHC Worship Center\, 4440 Brighton Rd.\, Howell\, MI\, 48843\, United States
CATEGORIES:Exercise
GEO:42.525534;-83.8629275
X-APPLE-STRUCTURED-LOCATION;VALUE=URI;X-ADDRESS=CHC Worship Center 4440 Brighton Rd. Howell MI 48843 United States;X-APPLE-RADIUS=500;X-TITLE=4440 Brighton Rd.:geo:-83.8629275,42.525534
END:VEVENT
BEGIN:VEVENT
DTSTART;TZID=America/Detroit:20251221T111500
DTEND;TZID=America/Detroit:20251221T123000
DTSTAMP:20260417T153329
CREATED:20251029T141842Z
LAST-MODIFIED:20251029T141842Z
UID:10002223-1766315700-1766320200@chilsonhills.org
SUMMARY:Advent Bell Choir Rehearsals
DESCRIPTION:Come join our handbell choir! We will start rehearsals following worship\, Sunday\, November 9th\, to prepare a song for December 7th and for the Christmas Eve service. All abilities are welcome\, come make a joyful noise with us! \nContact Amber Wist if you have any questions.
URL:https://chilsonhills.org/event/advent-bell-choir-rehearsals/2025-12-21/
LOCATION:MI
END:VEVENT
BEGIN:VEVENT
DTSTART;TZID=America/Detroit:20251222T100000
DTEND;TZID=America/Detroit:20251222T120000
DTSTAMP:20260417T153329
CREATED:20251126T180904Z
LAST-MODIFIED:20260414T190431Z
UID:10002286-1766397600-1766404800@chilsonhills.org
SUMMARY:Exercise Class
DESCRIPTION:Join us for fun and inclusive exercise classes! \nClasses are on Mondays and Wednesdays at 10 am for advanced\, 11 am beginner’s\, and Friday’s at 10 am. Classes are 50-60 minutes long. \nClasses are $3 per session. Classes include the use of free weights\, rubber balls\, chair seat risers\, stretch bands\, and great music! Come dressed in loose clothing\, rubber soled shoes\, and don’t forget that water bottle!
URL:https://chilsonhills.org/event/chilson-hills-exercise-class/2025-12-22/
LOCATION:CHC Worship Center\, 4440 Brighton Rd.\, Howell\, MI\, 48843\, United States
CATEGORIES:Exercise
GEO:42.525534;-83.8629275
X-APPLE-STRUCTURED-LOCATION;VALUE=URI;X-ADDRESS=CHC Worship Center 4440 Brighton Rd. Howell MI 48843 United States;X-APPLE-RADIUS=500;X-TITLE=4440 Brighton Rd.:geo:-83.8629275,42.525534
END:VEVENT
BEGIN:VEVENT
DTSTART;TZID=America/Detroit:20251223T093000
DTEND;TZID=America/Detroit:20251223T110000
DTSTAMP:20260417T153329
CREATED:20250617T162116Z
LAST-MODIFIED:20250617T163606Z
UID:10001939-1766482200-1766487600@chilsonhills.org
SUMMARY:Creative Worship Team Meeting
DESCRIPTION:We are always welcoming new members to this team. Join us and collaborate in designing creative worship! This group meets on zoom or in-person. Contact Worship and Communications Adminstrator\, Chelsea Head for details.
URL:https://chilsonhills.org/event/creative-worship-team-meeting-2-2/2025-12-23/
LOCATION:Conference Room
CATEGORIES:Prayer,Worship Service
ATTACH;FMTTYPE=image/jpeg:https://chilsonhills.org/wp-content/uploads/2015/07/i-NpDXCKT-2602x1952.jpg
ORGANIZER;CN="Angela Miller":MAILTO:angela@chilsonhills.org
END:VEVENT
BEGIN:VEVENT
DTSTART;TZID=America/Detroit:20251224T100000
DTEND;TZID=America/Detroit:20251224T120000
DTSTAMP:20260417T153329
CREATED:20251126T180904Z
LAST-MODIFIED:20260414T190431Z
UID:10002287-1766570400-1766577600@chilsonhills.org
SUMMARY:Exercise Class
DESCRIPTION:Join us for fun and inclusive exercise classes! \nClasses are on Mondays and Wednesdays at 10 am for advanced\, 11 am beginner’s\, and Friday’s at 10 am. Classes are 50-60 minutes long. \nClasses are $3 per session. Classes include the use of free weights\, rubber balls\, chair seat risers\, stretch bands\, and great music! Come dressed in loose clothing\, rubber soled shoes\, and don’t forget that water bottle!
URL:https://chilsonhills.org/event/chilson-hills-exercise-class/2025-12-24/
LOCATION:CHC Worship Center\, 4440 Brighton Rd.\, Howell\, MI\, 48843\, United States
CATEGORIES:Exercise
GEO:42.525534;-83.8629275
X-APPLE-STRUCTURED-LOCATION;VALUE=URI;X-ADDRESS=CHC Worship Center 4440 Brighton Rd. Howell MI 48843 United States;X-APPLE-RADIUS=500;X-TITLE=4440 Brighton Rd.:geo:-83.8629275,42.525534
END:VEVENT
BEGIN:VEVENT
DTSTART;TZID=America/Detroit:20251226T100000
DTEND;TZID=America/Detroit:20251226T120000
DTSTAMP:20260417T153329
CREATED:20251126T180904Z
LAST-MODIFIED:20260414T190431Z
UID:10002288-1766743200-1766750400@chilsonhills.org
SUMMARY:Exercise Class
DESCRIPTION:Join us for fun and inclusive exercise classes! \nClasses are on Mondays and Wednesdays at 10 am for advanced\, 11 am beginner’s\, and Friday’s at 10 am. Classes are 50-60 minutes long. \nClasses are $3 per session. Classes include the use of free weights\, rubber balls\, chair seat risers\, stretch bands\, and great music! Come dressed in loose clothing\, rubber soled shoes\, and don’t forget that water bottle!
URL:https://chilsonhills.org/event/chilson-hills-exercise-class/2025-12-26/
LOCATION:CHC Worship Center\, 4440 Brighton Rd.\, Howell\, MI\, 48843\, United States
CATEGORIES:Exercise
GEO:42.525534;-83.8629275
X-APPLE-STRUCTURED-LOCATION;VALUE=URI;X-ADDRESS=CHC Worship Center 4440 Brighton Rd. Howell MI 48843 United States;X-APPLE-RADIUS=500;X-TITLE=4440 Brighton Rd.:geo:-83.8629275,42.525534
END:VEVENT
BEGIN:VEVENT
DTSTART;TZID=America/Detroit:20251228T111500
DTEND;TZID=America/Detroit:20251228T123000
DTSTAMP:20260417T153329
CREATED:20251029T141842Z
LAST-MODIFIED:20251029T141842Z
UID:10002224-1766920500-1766925000@chilsonhills.org
SUMMARY:Advent Bell Choir Rehearsals
DESCRIPTION:Come join our handbell choir! We will start rehearsals following worship\, Sunday\, November 9th\, to prepare a song for December 7th and for the Christmas Eve service. All abilities are welcome\, come make a joyful noise with us! \nContact Amber Wist if you have any questions.
URL:https://chilsonhills.org/event/advent-bell-choir-rehearsals/2025-12-28/
LOCATION:MI
END:VEVENT
BEGIN:VEVENT
DTSTART;TZID=America/Detroit:20251229T100000
DTEND;TZID=America/Detroit:20251229T120000
DTSTAMP:20260417T153329
CREATED:20251126T180904Z
LAST-MODIFIED:20260414T190431Z
UID:10002289-1767002400-1767009600@chilsonhills.org
SUMMARY:Exercise Class
DESCRIPTION:Join us for fun and inclusive exercise classes! \nClasses are on Mondays and Wednesdays at 10 am for advanced\, 11 am beginner’s\, and Friday’s at 10 am. Classes are 50-60 minutes long. \nClasses are $3 per session. Classes include the use of free weights\, rubber balls\, chair seat risers\, stretch bands\, and great music! Come dressed in loose clothing\, rubber soled shoes\, and don’t forget that water bottle!
URL:https://chilsonhills.org/event/chilson-hills-exercise-class/2025-12-29/
LOCATION:CHC Worship Center\, 4440 Brighton Rd.\, Howell\, MI\, 48843\, United States
CATEGORIES:Exercise
GEO:42.525534;-83.8629275
X-APPLE-STRUCTURED-LOCATION;VALUE=URI;X-ADDRESS=CHC Worship Center 4440 Brighton Rd. Howell MI 48843 United States;X-APPLE-RADIUS=500;X-TITLE=4440 Brighton Rd.:geo:-83.8629275,42.525534
END:VEVENT
END:VCALENDAR